BEGIN:VCALENDAR
VERSION:2.0
PRODID:-//Koubek Center - ECPv6.2.0.1//NONSGML v1.0//EN
CALSCALE:GREGORIAN
METHOD:PUBLISH
X-WR-CALNAME:Koubek Center
X-ORIGINAL-URL:https://koubekcenter.org
X-WR-CALDESC:Events for Koubek Center
REFRESH-INTERVAL;VALUE=DURATION:PT1H
X-Robots-Tag:noindex
X-PUBLISHED-TTL:PT1H
BEGIN:VTIMEZONE
TZID:America/New_York
BEGIN:DAYLIGHT
TZOFFSETFROM:-0500
TZOFFSETTO:-0400
TZNAME:EDT
DTSTART:20240310T070000
END:DAYLIGHT
BEGIN:STANDARD
TZOFFSETFROM:-0400
TZOFFSETTO:-0500
TZNAME:EST
DTSTART:20241103T060000
END:STANDARD
END:VTIMEZONE
BEGIN:VEVENT
DTSTART;TZID=America/New_York:20240330T140000
DTEND;TZID=America/New_York:20240330T170000
DTSTAMP:20260421T213907
CREATED:20240109T014051Z
LAST-MODIFIED:20240219T022137Z
UID:5599-1711807200-1711818000@koubekcenter.org
SUMMARY:Picnic de Libros - March 30\, 2024
DESCRIPTION:Picnic de Libros is a bilingual\, family day program featuring storytelling\, theatre\, music\, arts and crafts\, dance\, and picnic baskets full of books\, for families to enjoy together. The event is free\, and its main goal is to expose kids to the richness and variety of the cultural traditions in our diverse community. These gatherings will tickle children’s curiosity while using the power of stories to bring people together\, promoting literacy\, and nurturing the next generation of engaged world citizens. We want to encourage kids to read and develop a passion for books and literature. Culminating each day\, we will serve a special picnic with blankets on the lawn and baskets full of books\, in both Spanish and English. \nThe next picnic will feature: \n\nArt & Craft workshop presented by Museum of Art and Design MOAD\n\n\nStorytelling with Leo Van Schermbeek.\nPercussion workshop by South Florida Center Percussive Arts \nCreative Stage Productions returns with its entertaining characters.\n\nPresented by Fundación Cuatrogatos and Koubek Center. \nEl picnic de libros es un evento multidisciplinario\, bilingüe y gratuito\, que busca acercar a los niños a la literatura y las artes\, a través de cuentos\, poemas\, manualidades\, trabalenguas\, adivinanzas\, música y además\, habrá cestas de picnic llenas de libros\, para leer y disfrutar. \nEl próximo Picnic contará con: \n\nTaller de Manualidades presentado por el Museo de Arte y Diseño MOAD\nCuentacuentos por Leo Van Schermbeek\n\n\nTaller de Percusión conducido por South Florida Center For The Percussive Arts\nCreative Stage Productions regresa con sus divertidos personajes.\n\nPresentado por Fundación Cuatrogatos y el Koubek Center.
URL:https://koubekcenter.org/event/picnic-de-libros-march-30-2024/
LOCATION:FL
CATEGORIES:Books & Reading
ATTACH;FMTTYPE=image/jpeg:https://koubekcenter.org/wp-content/uploads/2023/08/picnic-e-libros-02.jpg
END:VEVENT
END:VCALENDAR