BEGIN:VCALENDAR
VERSION:2.0
PRODID:-//Koubek Center - ECPv6.2.0.1//NONSGML v1.0//EN
CALSCALE:GREGORIAN
METHOD:PUBLISH
X-WR-CALNAME:Koubek Center
X-ORIGINAL-URL:https://koubekcenter.org
X-WR-CALDESC:Events for Koubek Center
REFRESH-INTERVAL;VALUE=DURATION:PT1H
X-Robots-Tag:noindex
X-PUBLISHED-TTL:PT1H
BEGIN:VTIMEZONE
TZID:America/New_York
BEGIN:DAYLIGHT
TZOFFSETFROM:-0500
TZOFFSETTO:-0400
TZNAME:EDT
DTSTART:20250309T070000
END:DAYLIGHT
BEGIN:STANDARD
TZOFFSETFROM:-0400
TZOFFSETTO:-0500
TZNAME:EST
DTSTART:20251102T060000
END:STANDARD
END:VTIMEZONE
BEGIN:VEVENT
DTSTART;VALUE=DATE:20251029
DTEND;VALUE=DATE:20251106
DTSTAMP:20260421T081459
CREATED:20251008T144226Z
LAST-MODIFIED:20251014T144505Z
UID:7041-1761696000-1762387199@koubekcenter.org
SUMMARY:Gems 2025
DESCRIPTION:Miami Film Festival GEMS returns to theaters across Miami Oct 29–Nov 5 \n\n\nCatch over 40 of the year’s most anticipated films before anyone else! \n\n\nSpecial guests include Lucy Liu\, Ethan Hawke\, Dylan O’Brien\, Gus Van Sant\, Park Chan-wook and more! \n\n\nBrowse films and get your tickets now!
URL:https://koubekcenter.org/event/miami-film-festival-gems-2025/
LOCATION:Koubek Center\, 2705 SW 3rd Street\, Miami\, FL\, 33135\, United States
CATEGORIES:Film
ATTACH;FMTTYPE=image/jpeg:https://koubekcenter.org/wp-content/uploads/2025/10/miami-film-festival-2025.jpg
END:VEVENT
BEGIN:VEVENT
DTSTART;TZID=America/New_York:20251029T180000
DTEND;TZID=America/New_York:20251029T180000
DTSTAMP:20260421T081459
CREATED:20251014T142447Z
LAST-MODIFIED:20251014T142448Z
UID:7076-1761760800-1761760800@koubekcenter.org
SUMMARY:No Other Choice - Q&A with Park Chan-
DESCRIPTION:Director: Park Chan-wook \nLanguage:Korean \nCountry: South Korea \nJoin legendary director Park Chan-wook (Oldboy\, The Handmaiden\, Decision to Leave) in person as we honor him with MiamiFilm Festival’s Precious Gem Master Award at our Opening Night screening of his latest satirical masterpiece\, No Other Choice. \nWith shades of Parasite\, Director Park tackles corporate ruthlessness and economic desperation with a new modern classic.Based on Donald E. Westlake’s novel The Ax\, the story follows Man-su on his desperate hunt for a new job after his abruptlayoff from the paper company he served for 25 years. With limited job opportunities in the industry and with bills mounting\,Man-su will go to violent lengths to make ends meet. \nWinner of the inaugural International People’s Choice Award at the 50th Toronto International Film Festival\, this pitch-blackcomedy will shock you in ways only Chan-wook can.
URL:https://koubekcenter.org/event/no-other-choice-qa-with-park-chan/
LOCATION:Koubek Center Theater\, 2705 SW 3rd Street\, Miami\, FL\, 33135\, United States
CATEGORIES:Film
ATTACH;FMTTYPE=image/jpeg:https://koubekcenter.org/wp-content/uploads/2025/10/MIAMI-FILM-FESTIVAL-NO-OTHER-CHOICE.jpg
END:VEVENT
END:VCALENDAR