BEGIN:VCALENDAR
VERSION:2.0
PRODID:-//Koubek Center - ECPv6.2.0.1//NONSGML v1.0//EN
CALSCALE:GREGORIAN
METHOD:PUBLISH
X-ORIGINAL-URL:https://koubekcenter.org
X-WR-CALDESC:Events for Koubek Center
REFRESH-INTERVAL;VALUE=DURATION:PT1H
X-Robots-Tag:noindex
X-PUBLISHED-TTL:PT1H
BEGIN:VTIMEZONE
TZID:America/New_York
BEGIN:DAYLIGHT
TZOFFSETFROM:-0500
TZOFFSETTO:-0400
TZNAME:EDT
DTSTART:20250309T070000
END:DAYLIGHT
BEGIN:STANDARD
TZOFFSETFROM:-0400
TZOFFSETTO:-0500
TZNAME:EST
DTSTART:20251102T060000
END:STANDARD
END:VTIMEZONE
BEGIN:VEVENT
DTSTART;VALUE=DATE:20251029
DTEND;VALUE=DATE:20251106
DTSTAMP:20260421T112357
CREATED:20251008T144226Z
LAST-MODIFIED:20251014T144505Z
UID:7041-1761696000-1762387199@koubekcenter.org
SUMMARY:Gems 2025
DESCRIPTION:Miami Film Festival GEMS returns to theaters across Miami Oct 29–Nov 5 \n\n\nCatch over 40 of the year’s most anticipated films before anyone else! \n\n\nSpecial guests include Lucy Liu\, Ethan Hawke\, Dylan O’Brien\, Gus Van Sant\, Park Chan-wook and more! \n\n\nBrowse films and get your tickets now!
URL:https://koubekcenter.org/event/miami-film-festival-gems-2025/
LOCATION:Koubek Center\, 2705 SW 3rd Street\, Miami\, FL\, 33135\, United States
CATEGORIES:Film
ATTACH;FMTTYPE=image/jpeg:https://koubekcenter.org/wp-content/uploads/2025/10/miami-film-festival-2025.jpg
END:VEVENT
BEGIN:VEVENT
DTSTART;TZID=America/New_York:20251030T190000
DTEND;TZID=America/New_York:20251030T190000
DTSTAMP:20260421T112357
CREATED:20251014T140706Z
LAST-MODIFIED:20251014T143408Z
UID:7056-1761850800-1761850800@koubekcenter.org
SUMMARY:After the Hunt
DESCRIPTION:Director: Luca Guadagnino \nLanguage: English \nCountry: United States \nJoin us for a drink and a movie at our Miami Film Festival GEMS Program Launch! Grab a complimentary glass of wine uponarrival and get the inside scoop on the GEMS lineup before tickets go on sale on October 1.  \nFrom visionary filmmaker Luca Guadagnino\, After The Hunt is a gripping psychological drama about a college professor (JuliaRoberts) who finds herself at a personal and professional crossroads when a star student (Ayo Edebiri) levels an accusationagainst one of her colleagues (Andrew Garfield)\, and a dark secret from her own past threatens to come into the light. AfterThe Hunt is written by Nora Garrett.
URL:https://koubekcenter.org/event/after-the-hunt/
LOCATION:Koubek Center Theater\, 2705 SW 3rd Street\, Miami\, FL\, 33135\, United States
CATEGORIES:Film
ATTACH;FMTTYPE=image/jpeg:https://koubekcenter.org/wp-content/uploads/2025/10/MIAMI-FILM-FESTIVAL-AFTER-THE-HUNT.jpg
END:VEVENT
BEGIN:VEVENT
DTSTART;TZID=America/New_York:20251030T193000
DTEND;TZID=America/New_York:20251030T193000
DTSTAMP:20260421T112357
CREATED:20251014T142721Z
LAST-MODIFIED:20251014T142745Z
UID:7080-1761852600-1761852600@koubekcenter.org
SUMMARY:Nuremberg
DESCRIPTION: Director: James Vanderbilt \nLanguage: English \nCountry: United States \nThe Allies – led by unyielding chief prosecutor Robert H. Jackson – are tasked with ensuring that the Nazi regime answers forthe unveiled horrors of the Holocaust\, as a U.S. Army psychiatrist is locked in a dramatic psychological duel with formerReichsmarschall Hermann Göring\, played by Russell Crowe in an unforgettable turn as Hitler’s second-in-command.  \nWith powerhouse performances from its star-studded cast made up of Crowe\, Rami Malek\, Michael Shannon\, Leo Woodall\, John Slattery\, and Richard E. Grant\, Nuremberg is a historical deep dive into one of the most consequential trials in history.More than just a history lesson\, director James Vanderbilt’s shrewd film dissects the very concepts of justice and moralresponsibility 
URL:https://koubekcenter.org/event/nuremberg/
LOCATION:Koubek Center Theater\, 2705 SW 3rd Street\, Miami\, FL\, 33135\, United States
CATEGORIES:Film
ATTACH;FMTTYPE=image/jpeg:https://koubekcenter.org/wp-content/uploads/2025/10/MIAMI-FILM-FESTIVAL-NUREMBERGjpg.jpg
END:VEVENT
END:VCALENDAR