BEGIN:VCALENDAR
VERSION:2.0
PRODID:-//Koubek Center - ECPv6.2.0.1//NONSGML v1.0//EN
CALSCALE:GREGORIAN
METHOD:PUBLISH
X-ORIGINAL-URL:https://koubekcenter.org
X-WR-CALDESC:Events for Koubek Center
REFRESH-INTERVAL;VALUE=DURATION:PT1H
X-Robots-Tag:noindex
X-PUBLISHED-TTL:PT1H
BEGIN:VTIMEZONE
TZID:America/New_York
BEGIN:DAYLIGHT
TZOFFSETFROM:-0500
TZOFFSETTO:-0400
TZNAME:EDT
DTSTART:20250309T070000
END:DAYLIGHT
BEGIN:STANDARD
TZOFFSETFROM:-0400
TZOFFSETTO:-0500
TZNAME:EST
DTSTART:20251102T060000
END:STANDARD
END:VTIMEZONE
BEGIN:VEVENT
DTSTART;VALUE=DATE:20251029
DTEND;VALUE=DATE:20251106
DTSTAMP:20260421T100105
CREATED:20251008T144226Z
LAST-MODIFIED:20251014T144505Z
UID:7041-1761696000-1762387199@koubekcenter.org
SUMMARY:Gems 2025
DESCRIPTION:Miami Film Festival GEMS returns to theaters across Miami Oct 29–Nov 5 \n\n\nCatch over 40 of the year’s most anticipated films before anyone else! \n\n\nSpecial guests include Lucy Liu\, Ethan Hawke\, Dylan O’Brien\, Gus Van Sant\, Park Chan-wook and more! \n\n\nBrowse films and get your tickets now!
URL:https://koubekcenter.org/event/miami-film-festival-gems-2025/
LOCATION:Koubek Center\, 2705 SW 3rd Street\, Miami\, FL\, 33135\, United States
CATEGORIES:Film
ATTACH;FMTTYPE=image/jpeg:https://koubekcenter.org/wp-content/uploads/2025/10/miami-film-festival-2025.jpg
END:VEVENT
BEGIN:VEVENT
DTSTART;TZID=America/New_York:20251101T130000
DTEND;TZID=America/New_York:20251101T130000
DTSTAMP:20260421T100106
CREATED:20251014T143023Z
LAST-MODIFIED:20251014T143045Z
UID:7085-1762002000-1762002000@koubekcenter.org
SUMMARY:She Dances
DESCRIPTION: Director: Rick Gomez \nLanguage: English \nCountry: United States \nForced to reconnect on the road to her final dance competition\, a father and daughter must confront their fracturedrelationship. As they navigate a shared tragedy\, the whirlwind of the Young Miss Southeast Regional Dance Finals becomes thebackdrop for their journey toward healing.  \nFresh off its world premiere at the Tribeca Film Festival\, She Dances is an intimate and moving treasure of a film. Starring Steve Zahn alongside his real-life daughter Audrey Zahn in her feature film debut\, and co-starring our GEMS Variety VirtuosoAward honoree Ethan Hawke\, it’s a story about rediscovering family and finding yourself – and about accepting what is\, lettingit shape you\, and recognizing who you are through the memories of those you love most.
URL:https://koubekcenter.org/event/she-dances/
LOCATION:Koubek Center Theater\, 2705 SW 3rd Street\, Miami\, FL\, 33135\, United States
CATEGORIES:Film
ATTACH;FMTTYPE=image/jpeg:https://koubekcenter.org/wp-content/uploads/2025/10/MIAMI-FILM-FESTIVAL-SHE-DANCES.jpg
END:VEVENT
BEGIN:VEVENT
DTSTART;TZID=America/New_York:20251101T160000
DTEND;TZID=America/New_York:20251101T160000
DTSTAMP:20260421T100106
CREATED:20251014T141822Z
LAST-MODIFIED:20251014T141822Z
UID:7068-1762012800-1762012800@koubekcenter.org
SUMMARY:Is This Thing On?
DESCRIPTION:Director: Bradley Cooper \nLanguage: English \nCountry: United States \nAs their marriage quietly unravels\, Alex (Will Arnett) facing middle age and an impending divorce\, seeking new purpose on theNew York comedy scene\, while Tess (Laura Dern) confronts the sacrifices she made for their family – forcing them to navigateco-parenting\, identity\, and whether love can take a new form. Bradley Cooper’s third film as a director after A Star is Born andMaestro\, Miami Film Festival GEMS is screening Is This Thing On? just three weeks after its world premiere as the closing nightfilm of the New York Film Festival.  \nFunny and revealing\, it’s a cathartic look at finding the humor in the face of life’s curveballs. 
URL:https://koubekcenter.org/event/is-this-thing-on/
LOCATION:Koubek Center Theater\, 2705 SW 3rd Street\, Miami\, FL\, 33135\, United States
CATEGORIES:Film
ATTACH;FMTTYPE=image/jpeg:https://koubekcenter.org/wp-content/uploads/2025/10/MIAMI-FILM-FESTIVAL-IS-THIS-THING-ON.jpg
END:VEVENT
BEGIN:VEVENT
DTSTART;TZID=America/New_York:20251101T194500
DTEND;TZID=America/New_York:20251101T194500
DTSTAMP:20260421T100106
CREATED:20251014T143321Z
LAST-MODIFIED:20251014T143341Z
UID:7090-1762026300-1762026300@koubekcenter.org
SUMMARY:Sirât
DESCRIPTION:Director: Oliver Laxe \nLanguage: Spanish\, French \nCountry: France\, Spain \nA father (Sergi López) and his son arrive at a rave deep in the mountains of southern Morocco. They’re searching for Mar –daughter and sister – who vanished months ago at one of these endless\, sleepless parties. Surrounded by electronic musicand a raw\, unfamiliar sense of freedom\, they hand out her photo again and again. Hope is fading\, but they push through andfollow a group of ravers heading to one last party in the desert. As they venture deeper into the burning wilderness\, thejourney forces them to confront their own limits.  \nSpain’s official submission for the Oscars\, this Cannes sensation won the Jury Prize and three others\, including Palm Dog forbest canine performance. 
URL:https://koubekcenter.org/event/sirat/
LOCATION:Koubek Center Theater\, 2705 SW 3rd Street\, Miami\, FL\, 33135\, United States
CATEGORIES:Film
ATTACH;FMTTYPE=image/jpeg:https://koubekcenter.org/wp-content/uploads/2025/10/MIAMI-FILM-FESTIVAL-SIRAT.jpg
END:VEVENT
END:VCALENDAR