BEGIN:VCALENDAR
VERSION:2.0
PRODID:-//Koubek Center - ECPv6.2.0.1//NONSGML v1.0//EN
CALSCALE:GREGORIAN
METHOD:PUBLISH
X-WR-CALNAME:Koubek Center
X-ORIGINAL-URL:https://koubekcenter.org
X-WR-CALDESC:Events for Koubek Center
REFRESH-INTERVAL;VALUE=DURATION:PT1H
X-Robots-Tag:noindex
X-PUBLISHED-TTL:PT1H
BEGIN:VTIMEZONE
TZID:America/New_York
BEGIN:DAYLIGHT
TZOFFSETFROM:-0500
TZOFFSETTO:-0400
TZNAME:EDT
DTSTART:20250309T070000
END:DAYLIGHT
BEGIN:STANDARD
TZOFFSETFROM:-0400
TZOFFSETTO:-0500
TZNAME:EST
DTSTART:20251102T060000
END:STANDARD
END:VTIMEZONE
BEGIN:VEVENT
DTSTART;VALUE=DATE:20251029
DTEND;VALUE=DATE:20251106
DTSTAMP:20260421T081453
CREATED:20251008T144226Z
LAST-MODIFIED:20251014T144505Z
UID:7041-1761696000-1762387199@koubekcenter.org
SUMMARY:Gems 2025
DESCRIPTION:Miami Film Festival GEMS returns to theaters across Miami Oct 29–Nov 5 \n\n\nCatch over 40 of the year’s most anticipated films before anyone else! \n\n\nSpecial guests include Lucy Liu\, Ethan Hawke\, Dylan O’Brien\, Gus Van Sant\, Park Chan-wook and more! \n\n\nBrowse films and get your tickets now!
URL:https://koubekcenter.org/event/miami-film-festival-gems-2025/
LOCATION:Koubek Center\, 2705 SW 3rd Street\, Miami\, FL\, 33135\, United States
CATEGORIES:Film
ATTACH;FMTTYPE=image/jpeg:https://koubekcenter.org/wp-content/uploads/2025/10/miami-film-festival-2025.jpg
END:VEVENT
BEGIN:VEVENT
DTSTART;TZID=America/New_York:20251102T130000
DTEND;TZID=America/New_York:20251102T130000
DTSTAMP:20260421T081453
CREATED:20251014T140129Z
LAST-MODIFIED:20251014T140130Z
UID:7052-1762088400-1762088400@koubekcenter.org
SUMMARY:A Private Life (Vie privée)
DESCRIPTION:Director: Rebecca Zlotowski \nLanguage:French \nCountry: France \nRenowned psychiatrist Lilian Steiner is deeply troubled by the sudden death of one of her patients. Convinced it was murder\,she decides to investigate…  \nAn official selection at some of the world’s most renowned film festivals – including Cannes\, Telluride\, Toronto\, San Sebastian\,and New York – A Private Life marks two-time Academy Award-winning actress Jodie Foster’s first French-speaking lead role.In her remarkable hands\, she takes a story about obsession and infuses it with both camp and sincerity. And while at firstglance it appears to be a murder mystery\, there’s something much more interesting bubbling beneath the surface in thispsychological tale of emotional suppression and personal discovery.
URL:https://koubekcenter.org/event/a-private-life-vie-privee/
LOCATION:Koubek Center Theater\, 2705 SW 3rd Street\, Miami\, FL\, 33135\, United States
CATEGORIES:Film
ATTACH;FMTTYPE=image/jpeg:https://koubekcenter.org/wp-content/uploads/2025/10/MIAMI-FILM-FESTIVAL-PRIVATE-LIFEjpg.jpg
END:VEVENT
BEGIN:VEVENT
DTSTART;TZID=America/New_York:20251102T151500
DTEND;TZID=America/New_York:20251102T151500
DTSTAMP:20260421T081453
CREATED:20251014T142129Z
LAST-MODIFIED:20251014T142130Z
UID:7072-1762096500-1762096500@koubekcenter.org
SUMMARY:Jay Kelly
DESCRIPTION:Director: Noah Baumbach \nLanguage: English \nCountry: United States \nJay Kelly\, the new film from Academy Award nominee Noah Baumbach\, follows famous movie actor Jay Kelly (GeorgeClooney) and his devoted manager\, Ron (Adam Sandler)\, as they embark on a whirlwind and unexpectedly profound journeythrough Europe. Along the way\, both men are forced to confront the choices they’ve made\, their relationships with their lovedones\, and the legacies they’ll leave behind.  \nA gripping character study played by a phenomenal George Clooney in the title role\, Jay Kelly also stars Adam Sandler\, LauraDern\, Billy Crudup\, and Greta Gerwig. The end result is an entertaining mediation on identity\, isolation\, and celebrity – and howthe hardest role to play in life is that of ourselves. 
URL:https://koubekcenter.org/event/jay-kelly/
LOCATION:Koubek Center Theater\, 2705 SW 3rd Street\, Miami\, FL\, 33135\, United States
CATEGORIES:Film
ATTACH;FMTTYPE=image/jpeg:https://koubekcenter.org/wp-content/uploads/2025/10/MIAMI-FILM-FESTIVAL-JAY-KELLY.jpg
END:VEVENT
BEGIN:VEVENT
DTSTART;TZID=America/New_York:20251102T181500
DTEND;TZID=America/New_York:20251102T181500
DTSTAMP:20260421T081453
CREATED:20251014T135741Z
LAST-MODIFIED:20251014T135741Z
UID:7048-1762107300-1762107300@koubekcenter.org
SUMMARY:The Secret Agent (O Agente Secreto)
DESCRIPTION: Director: Kleber Mendonça Filho \nLanguage: Portuguese \nCountry: Brazil\, France\, Netherlands\, \nBrazil\, 1977. Marcelo\, a technology expert in his early 40s\, is on the run. He arrives in Recife during carnival week hoping toreunite with his son\, but soon realizes that the city is far from being the nonviolent refuge he seeks.  \nThe Secret Agent was the winner of multiple awards at the Cannes Film Festival\, including best actor for Wagner Moura\, bestdirector for Kleber Mendonça Filho\, and the FIPRESCI Prize. \nKleber Mendonça Filho is a master filmmaker and has directed myriad Brazilian classics\, including Neighboring Sounds\,Aquarius\, and Bacurau. The Secret Agent is one of his most striking films yet: a neo-noir political thriller that also pays lovinghomage 
URL:https://koubekcenter.org/event/the-secret-agent-o-agente-secreto/
LOCATION:FL
CATEGORIES:Film
ATTACH;FMTTYPE=image/jpeg:https://koubekcenter.org/wp-content/uploads/2025/10/MIAMI-FILM-FESTIVAL-SECRET-AGENT.jpg
END:VEVENT
END:VCALENDAR