BEGIN:VCALENDAR
VERSION:2.0
PRODID:-//Koubek Center - ECPv6.2.0.1//NONSGML v1.0//EN
CALSCALE:GREGORIAN
METHOD:PUBLISH
X-WR-CALNAME:Koubek Center
X-ORIGINAL-URL:https://koubekcenter.org
X-WR-CALDESC:Events for Koubek Center
REFRESH-INTERVAL;VALUE=DURATION:PT1H
X-Robots-Tag:noindex
X-PUBLISHED-TTL:PT1H
BEGIN:VTIMEZONE
TZID:America/New_York
BEGIN:DAYLIGHT
TZOFFSETFROM:-0500
TZOFFSETTO:-0400
TZNAME:EDT
DTSTART:20260308T070000
END:DAYLIGHT
BEGIN:STANDARD
TZOFFSETFROM:-0400
TZOFFSETTO:-0500
TZNAME:EST
DTSTART:20261101T060000
END:STANDARD
END:VTIMEZONE
BEGIN:VEVENT
DTSTART;TZID=America/New_York:20260316T204500
DTEND;TZID=America/New_York:20260415T204500
DTSTAMP:20260420T162058
CREATED:20260316T151133Z
LAST-MODIFIED:20260316T151245Z
UID:7320-1773693900-1776285900@koubekcenter.org
SUMMARY:El Regresado
DESCRIPTION:Drama \nSpanish \nCuba/Colombia \nEl regresado tells the story of a young Cuban painter\, a graduate of the National Art School\, who returns to his hometown of Gibara in Eastern Cuba to complete his mandatory social service. \nAt the same time\, he has also been drafted into military service\, from which he hopes to be exempted once he begins working at a local cultural institution. In Gibara\, he reunites with his admired former professor – himself an artist – who has been purged for his aesthetic vision and statements that do not align with the doctrine of Castroism. Gibara has become a small inferno ruled by fear\, opportunism\, and repression – and compels the young man to make a drastic decision. \nDIRECTED BY ARMANDO CAPO \n2025 \n100 MINS
URL:https://koubekcenter.org/event/el-regresado/
LOCATION:Koubek Center Theater\, 2705 SW 3rd Street\, Miami\, FL\, 33135\, United States
CATEGORIES:Film
ATTACH;FMTTYPE=image/jpeg:https://koubekcenter.org/wp-content/uploads/2026/03/EL-REGRESADO.jpg
END:VEVENT
END:VCALENDAR