BEGIN:VCALENDAR
VERSION:2.0
PRODID:-//Koubek Center - ECPv6.2.0.1//NONSGML v1.0//EN
CALSCALE:GREGORIAN
METHOD:PUBLISH
X-ORIGINAL-URL:https://koubekcenter.org
X-WR-CALDESC:Events for Koubek Center
REFRESH-INTERVAL;VALUE=DURATION:PT1H
X-Robots-Tag:noindex
X-PUBLISHED-TTL:PT1H
BEGIN:VTIMEZONE
TZID:America/New_York
BEGIN:DAYLIGHT
TZOFFSETFROM:-0500
TZOFFSETTO:-0400
TZNAME:EDT
DTSTART:20210314T070000
END:DAYLIGHT
BEGIN:STANDARD
TZOFFSETFROM:-0400
TZOFFSETTO:-0500
TZNAME:EST
DTSTART:20211107T060000
END:STANDARD
BEGIN:DAYLIGHT
TZOFFSETFROM:-0500
TZOFFSETTO:-0400
TZNAME:EDT
DTSTART:20220313T070000
END:DAYLIGHT
BEGIN:STANDARD
TZOFFSETFROM:-0400
TZOFFSETTO:-0500
TZNAME:EST
DTSTART:20221106T060000
END:STANDARD
END:VTIMEZONE
BEGIN:VEVENT
DTSTART;TZID=America/New_York:20220318T200000
DTEND;TZID=America/New_York:20220318T213000
DTSTAMP:20260424T084023
CREATED:20220210T224239Z
LAST-MODIFIED:20220214T224357Z
UID:3009-1647633600-1647639000@koubekcenter.org
SUMMARY:Festival de Cine "Ellas son Cine" / Nommer 37
DESCRIPTION:El mundo del audiovisual\, y de la imagen en general desempeña un papel muy importante en la transformación de las sociedades y muy particularmente en la ruptura de modelos que son un obstáculo para la igualdad entre hombres y mujeres. De ahí que la Fundación Mujeres por África haya considerado este ámbito como uno de especial importancia en su plan de acción. \nEllas son Cine es el principal programa del proyecto audiovisual de la Fundación. Promover el conocimiento y disfrute en España del cine dirigido por mujeres africanas\, es el principal objetivo del programa\, que en 2019 celebrará ya su séptima edición. \nHasta el momento\, ELLAS SON CINE ha proyectado 32 largometrajes y 7 cortos de 16 países\, y ha traído para el coloquio con que siempre se abre el ciclo a 6 directoras africanas que han podido compartir sus experiencias y visión con el público español. \nTodas los largometrajes tendrán subtítulos en ingles y en español. \nNommer 37 (2018)\n110 min.\nSudáfrica \nRemake de un corto con el mismo nombre. Atrapado en su apartamento\, Randal Hendricks\, que hace poco se quedó parapléjico\, recibe un regalo de su novia: unos prismáticos. Randal tiene una deuda económica con Emmie\, un tiburón de los negocios. Cuando Randal ve que un poderoso criminal comete un asesinato\, empieza una operación de chantaje. (FILMAFFINITY) \nDirección – Nosipho Dumisa\, Travis Taute\nGuion – Nosipho Dumisa\nMúsica – James Matthes\nFotografía – Zenn van Zyl\nReparto – Sandi Schultz\, Deon Lotz\, Irshaad Ally\, Amrain Ismail-Essop\, Monique Rockman\nProductora – Gambit Films\nGénero – Thriller | Remake
URL:https://koubekcenter.org/event/festival-de-cine-ellas-son-cine-nommer-37/
LOCATION:Koubek Center Theater\, 2705 SW 3rd Street\, Miami\, FL\, 33135\, United States
CATEGORIES:Film
ATTACH;FMTTYPE=image/jpeg:https://koubekcenter.org/wp-content/uploads/2022/02/nommer-1.jpg
END:VEVENT
BEGIN:VEVENT
DTSTART;VALUE=DATE:20210822
DTEND;VALUE=DATE:20210823
DTSTAMP:20260424T084023
CREATED:20210514T141735Z
LAST-MODIFIED:20210817T143217Z
UID:2483-1629590400-1629676799@koubekcenter.org
SUMMARY:Human Rights Film Festival of Barcelona
DESCRIPTION:The Koubek Center and the Spanish Cultural Center of Miami present\, for the second year in a row\, a selection of films from the Human Rights Film Festival of Barcelona. The event\, featuring films from Spain\, Brazil\, Burkina Faso\, Colombia\, Argentina\, and the Netherlands\, will take place next August 20 and 21st at the Koubek Center’s theater\, and August 22nd online. \nNow in its 17th season\, the mission of the Human Rights Film Festival of Barcelona is “To disseminate cinema that makes us reflect\, awakens consciences\, denounces injustices and reflects the social and cultural diversity of humanity. In the collective search for a sustainable humanity.” \nThis year’s festival addresses issues of global reach such as migration\, gender violence\, or the control of food by multinational corporations but then\, it also explores more personal matters\, such as bullying\, or the fight for respect and the right to a good life by those some states and institutions judge as “different.” The selection features films ranging in length from one to 37 minutes\, include both documentaries and works of fiction. Thematically\, the films range broadly\, including Brazil’s Contramare\, which focuses on the moving of a youth orchestra bringing music and hope to a violent shanty town in Rio de Janeiro; and Burkinabe Bounty\, documenting the local resistance in Burkina Faso for food sovereignty; but also the absurdist\, darkly comical Una Cabrita Sin Cuernos\, from Argentina\, based on actual events\, in which a children’s book sparks the paranoid fears of the military ruling the country. Some are sharply drawn vignettes\, illuminating the hidden drama of poverty (Spain’s Macaroni) or slyly commenting on world destruction (Spain’s Broken Dreams) while others\, such as Spain’s Diversity and Lands\, offers testimony of members of the LGBTQ\, from places as disparate as Honduras\, Bulgaria and Morocco\, persecuted by the state for being “different.” \nAll films are in Spanish with English subtitles.
URL:https://koubekcenter.org/event/human-rights-film-festival-of-barcelona-3/
LOCATION:Virtual Event\, FL
CATEGORIES:Film
ATTACH;FMTTYPE=image/jpeg:https://koubekcenter.org/wp-content/uploads/2021/05/derechos-2021.jpg
END:VEVENT
BEGIN:VEVENT
DTSTART;TZID=America/New_York:20210821T200000
DTEND;TZID=America/New_York:20210821T210000
DTSTAMP:20260424T084023
CREATED:20210514T141605Z
LAST-MODIFIED:20210817T143154Z
UID:2479-1629576000-1629579600@koubekcenter.org
SUMMARY:Human Rights Film Festival of Barcelona
DESCRIPTION:The Koubek Center and the Spanish Cultural Center of Miami present\, for the second year in a row\, a selection of films from the Human Rights Film Festival of Barcelona. The event\, featuring films from Spain\, Brazil\, Burkina Faso\, Colombia\, Argentina\, and the Netherlands\, will take place next August 20 and 21st at the Koubek Center’s theater\, and August 22nd online. \nNow in its 17th season\, the mission of the Human Rights Film Festival of Barcelona is “To disseminate cinema that makes us reflect\, awakens consciences\, denounces injustices and reflects the social and cultural diversity of humanity. In the collective search for a sustainable humanity.” \nThis year’s festival addresses issues of global reach such as migration\, gender violence\, or the control of food by multinational corporations but then\, it also explores more personal matters\, such as bullying\, or the fight for respect and the right to a good life by those some states and institutions judge as “different.” The selection features films ranging in length from one to 37 minutes\, include both documentaries and works of fiction. Thematically\, the films range broadly\, including Brazil’s Contramare\, which focuses on the moving of a youth orchestra bringing music and hope to a violent shanty town in Rio de Janeiro; and Burkinabe Bounty\, documenting the local resistance in Burkina Faso for food sovereignty; but also the absurdist\, darkly comical Una Cabrita Sin Cuernos\, from Argentina\, based on actual events\, in which a children’s book sparks the paranoid fears of the military ruling the country. Some are sharply drawn vignettes\, illuminating the hidden drama of poverty (Spain’s Macaroni) or slyly commenting on world destruction (Spain’s Broken Dreams) while others\, such as Spain’s Diversity and Lands\, offers testimony of members of the LGBTQ\, from places as disparate as Honduras\, Bulgaria and Morocco\, persecuted by the state for being “different.” \nAll films are in Spanish with English subtitles.
URL:https://koubekcenter.org/event/human-rights-film-festival-of-barcelona-2/
LOCATION:Koubek Center Theater\, 2705 SW 3rd Street\, Miami\, FL\, 33135\, United States
CATEGORIES:Film
ATTACH;FMTTYPE=image/jpeg:https://koubekcenter.org/wp-content/uploads/2021/05/derechos-2021.jpg
END:VEVENT
BEGIN:VEVENT
DTSTART;TZID=America/New_York:20210820T200000
DTEND;TZID=America/New_York:20210820T210000
DTSTAMP:20260424T084023
CREATED:20210514T141032Z
LAST-MODIFIED:20210816T220952Z
UID:2473-1629489600-1629493200@koubekcenter.org
SUMMARY:Human Rights Film Festival of Barcelona
DESCRIPTION:The Koubek Center and the Spanish Cultural Center of Miami present\, for the second year in a row\, a selection of films from the Human Rights Film Festival of Barcelona. The event\, featuring films from Spain\, Brazil\, Burkina Faso\, Colombia\, Argentina\, and the Netherlands\, will take place next August 20 and 21st at the Koubek Center’s theater\, and August 22nd online. \nNow in its 17th season\, the mission of the Human Rights Film Festival of Barcelona is “To disseminate cinema that makes us reflect\, awakens consciences\, denounces injustices and reflects the social and cultural diversity of humanity. In the collective search for a sustainable humanity.” \nThis year’s festival addresses issues of global reach such as migration\, gender violence\, or the control of food by multinational corporations but then\, it also explores more personal matters\, such as bullying\, or the fight for respect and the right to a good life by those some states and institutions judge as “different.” The selection features films ranging in length from one to 37 minutes\, include both documentaries and works of fiction. Thematically\, the films range broadly\, including Brazil’s Contramare\, which focuses on the moving of a youth orchestra bringing music and hope to a violent shanty town in Rio de Janeiro; and Burkinabe Bounty\, documenting the local resistance in Burkina Faso for food sovereignty; but also the absurdist\, darkly comical Una Cabrita Sin Cuernos\, from Argentina\, based on actual events\, in which a children’s book sparks the paranoid fears of the military ruling the country. Some are sharply drawn vignettes\, illuminating the hidden drama of poverty (Spain’s Macaroni) or slyly commenting on world destruction (Spain’s Broken Dreams) while others\, such as Spain’s Diversity and Lands\, offers testimony of members of the LGBTQ\, from places as disparate as Honduras\, Bulgaria and Morocco\, persecuted by the state for being “different.” \nAll films are in Spanish with English subtitles. \nThe safety of our patrons\, students\, and staff is our priority. Measures to prevent transmission of Covid-19 will be enforced at the event in accordance with federal\, state and local health agency guidance. Facial coverings will be strongly encouraged. We appreciate your collaboration.
URL:https://koubekcenter.org/event/human-rights-film-festival-of-barcelona/
LOCATION:Koubek Center Theater\, 2705 SW 3rd Street\, Miami\, FL\, 33135\, United States
CATEGORIES:Film
ATTACH;FMTTYPE=image/jpeg:https://koubekcenter.org/wp-content/uploads/2021/05/derechos-2021.jpg
END:VEVENT
BEGIN:VEVENT
DTSTART;VALUE=DATE:20210126
DTEND;VALUE=DATE:20210131
DTSTAMP:20260424T084023
CREATED:20210114T205024Z
LAST-MODIFIED:20210114T205137Z
UID:2178-1611619200-1612051199@koubekcenter.org
SUMMARY:V Festival de Cine y  Derechos Humanos  de Madrid
DESCRIPTION:For the second consecutive year\, Miami Dade College’s Koubek Center and the Spanish Cultural Center of Miami will present a selection of films from the Human Rights Film Festival of Madrid. The Festival\, in its fifth edition\, focuses on the diffusion of films with themes that are included in the Universal Declaration of Human Rights\, “from a pluralistic vision\, based on reconciliation and the culture of peace.” The selection criteria for the Madrid Festival is\, in part\, a response to the threat to human rights posed by the rise of authoritarian political trends in the world and the pandemic. \nThe selection of films to be presented by the Koubek Center and the Spanish Cultural Center includes documentaries and works of fiction. All films are in Spanish with English subtitles. \nTo access the film presentations\, those interested must RSVP and register using the link below the festival announcements. Then\, by email\, they will receive a link and password the day of the films. Each day requires a different link which will only be available for two days. \nTuesday\, January 26th – Saturday\, January 30th \nFor the full program and to RSVP –  https://www.brownpapertickets.com/event/5023283 \nPor segundo año consecutivo el Koubek Center del Miami Dade College y el Centro Cultural Español de Miami\, presentarán una selección de películas del Festival de Cine y Derechos Humanos de Madrid. El Festival\, en su quinta edición\, esta enfocado a la difusión de cine con temáticas que estén incluidas en la Declaración Universal de los Derechos Humanos\, “desde una visión pluralista\, basados en la reconciliación y la cultura de la paz”. El criterio de selección del Festival de Madrid es\, en parte\, una respuesta a la amenaza a los derechos humanos que representa el aumento de las tendencias políticas autoritarias en el mundo y la pandemia. \nLa selección de películas que será presentada por el Koubek Center y el Centro Cultural Español incluye documentales y obras de ficción. Todas las películas son en castellano con subtítulos en inglés. \nPara acceder a los films\, los interesados deberán inscribirse usando el link. Luego\, por correo electrónico\, recibirán la dirección y contraseña del día para el Festival. Cada día requiere una contraseña diferente y cada película estará disponible dos días. \nMartes 26 de enero – Sábado 30 de enero \nPara la programación y RSVP – https://www.brownpapertickets.com/event/5023283
URL:https://koubekcenter.org/event/v-festival-de-cine-y-derechos-humanos-de-madrid/
LOCATION:Virtual Event\, FL
CATEGORIES:Film
ATTACH;FMTTYPE=image/jpeg:https://koubekcenter.org/wp-content/uploads/2021/01/cine2021.jpg
END:VEVENT
END:VCALENDAR