BEGIN:VCALENDAR
VERSION:2.0
PRODID:-//Koubek Center - ECPv6.2.0.1//NONSGML v1.0//EN
CALSCALE:GREGORIAN
METHOD:PUBLISH
X-WR-CALNAME:Koubek Center
X-ORIGINAL-URL:https://koubekcenter.org
X-WR-CALDESC:Events for Koubek Center
REFRESH-INTERVAL;VALUE=DURATION:PT1H
X-Robots-Tag:noindex
X-PUBLISHED-TTL:PT1H
BEGIN:VTIMEZONE
TZID:America/New_York
BEGIN:DAYLIGHT
TZOFFSETFROM:-0500
TZOFFSETTO:-0400
TZNAME:EDT
DTSTART:20220313T070000
END:DAYLIGHT
BEGIN:STANDARD
TZOFFSETFROM:-0400
TZOFFSETTO:-0500
TZNAME:EST
DTSTART:20221106T060000
END:STANDARD
END:VTIMEZONE
BEGIN:VEVENT
DTSTART;TZID=America/New_York:20221118T200000
DTEND;TZID=America/New_York:20221118T210000
DTSTAMP:20260425T091003
CREATED:20221003T220547Z
LAST-MODIFIED:20221110T023241Z
UID:4214-1668801600-1668805200@koubekcenter.org
SUMMARY:Germán López
DESCRIPTION: Germán López is a master of the timple\, the small five-stringed guitar native to the Canary Islands\, a cousin in a family of instruments that includes the Venezuelan cuatro\, the cavaquinho\, the ukulele\, and the charango. What has distinguished López’s career since its beginnings has been his approach\, aiming at putting the timple on the global stage and exploring its possibilities in fusions beyond traditional music. \nLópez\, accompanied by his quintet and special guests\, including Cuban singer Aymeé Nuviola\, fresh from her performance at the Latin GRAMMYs\, and legendary percussionist Sammy Figueroa\, will perform at Miami Dade College’s Koubek Center on Friday\, November 18. This evening\, López will present his new album\, Alma (Virgin Music)\, his fifth under his own name but the first on an international label. This release on a global platform marks a new stage in López’s career and in his idea of continuing to expand the projection of the instrument.
URL:https://koubekcenter.org/event/german-lopez/
LOCATION:Koubek Center\, 2705 SW 3rd Street\, Miami\, FL\, 33135\, United States
CATEGORIES:Music
ATTACH;FMTTYPE=image/jpeg:https://koubekcenter.org/wp-content/uploads/2022/10/german-2022.jpg
END:VEVENT
END:VCALENDAR