BEGIN:VCALENDAR
VERSION:2.0
PRODID:-//Koubek Center - ECPv6.2.0.1//NONSGML v1.0//EN
CALSCALE:GREGORIAN
METHOD:PUBLISH
X-ORIGINAL-URL:https://koubekcenter.org
X-WR-CALDESC:Events for Koubek Center
REFRESH-INTERVAL;VALUE=DURATION:PT1H
X-Robots-Tag:noindex
X-PUBLISHED-TTL:PT1H
BEGIN:VTIMEZONE
TZID:America/New_York
BEGIN:DAYLIGHT
TZOFFSETFROM:-0500
TZOFFSETTO:-0400
TZNAME:EDT
DTSTART:20220313T070000
END:DAYLIGHT
BEGIN:STANDARD
TZOFFSETFROM:-0400
TZOFFSETTO:-0500
TZNAME:EST
DTSTART:20221106T060000
END:STANDARD
END:VTIMEZONE
BEGIN:VEVENT
DTSTART;TZID=America/New_York:20220716T170000
DTEND;TZID=America/New_York:20220716T183000
DTSTAMP:20260425T201233
CREATED:20220607T215411Z
LAST-MODIFIED:20220621T175253Z
UID:3258-1657990800-1657996200@koubekcenter.org
SUMMARY:The Moving Music Museum
DESCRIPTION:El multiinstrumentalista Michael Gil presenta una experiencia artística que explora una vasta colección de instrumentos ancestrales y contemporáneos de diferentes partes del mundo. Esta colección única de instrumentos muestra la relación vital entre los humanos y la música\, y destaca las tendencias culturales y los eventos históricos que explican cómo los instrumentos y sus intérpretes cambiaron con el tiempo y la geografía. Los participantes estarán expuestos a los orígenes\, la historia\, la técnica de interpretación y las posibilidades musicales de los instrumentos utilizando un enfoque de artes integradas\, que también se vincula con los estándares educativos de CPALMS y fomenta el desarrollo de habilidades del siglo XXI. Esta experiencia musical explora regiones\, países\, océanos y continentes\, ya que conecta historias de culturas pasadas y procesos históricos con la innovación contemporánea. “The Moving Music Museum” es un concierto y exhibición orientado a la familia para conocer y honrar a personas de diferentes culturas. \nMulti-instrumentalist Michael Gil presents an integrated arts experience that explores a vast collection of ancestral and contemporary musical instruments from different parts of the world. This unique collection of instruments showcases the vital relationship between humans and music\, and highlights cultural trends and historical events that explain how the instruments\, and their players\, changed over time and geography. Participants will be exposed to the instruments’ origins\, history\, playing technique and musical possibilities utilizing an integrated arts approach\, which also links to CPALMS educational standards and fosters the development of 21st century skills. This experience labels regions\, countries\, oceans\, and continents as it connects stories of past cultures and historical processes with contemporary innovation. “The Moving Music Museum” is a family-oriented concert and exhibition to learn about and honor others. \nVideo – https://www.youtube.com/watch?v=DeAUQYfx-k0
URL:https://koubekcenter.org/event/el-museo-de-musica-andante/
LOCATION:Koubek Center\, 2705 SW 3rd Street\, Miami\, FL\, 33135\, United States
CATEGORIES:Music
ATTACH;FMTTYPE=image/jpeg:https://koubekcenter.org/wp-content/uploads/2022/06/gil-july-2022.jpg
END:VEVENT
END:VCALENDAR