BEGIN:VCALENDAR
VERSION:2.0
PRODID:-//Koubek Center - ECPv6.2.0.1//NONSGML v1.0//EN
CALSCALE:GREGORIAN
METHOD:PUBLISH
X-WR-CALNAME:Koubek Center
X-ORIGINAL-URL:https://koubekcenter.org
X-WR-CALDESC:Events for Koubek Center
REFRESH-INTERVAL;VALUE=DURATION:PT1H
X-Robots-Tag:noindex
X-PUBLISHED-TTL:PT1H
BEGIN:VTIMEZONE
TZID:America/New_York
BEGIN:DAYLIGHT
TZOFFSETFROM:-0500
TZOFFSETTO:-0400
TZNAME:EDT
DTSTART:20230312T070000
END:DAYLIGHT
BEGIN:STANDARD
TZOFFSETFROM:-0400
TZOFFSETTO:-0500
TZNAME:EST
DTSTART:20231105T060000
END:STANDARD
END:VTIMEZONE
BEGIN:VEVENT
DTSTART;TZID=America/New_York:20231208T195600
DTEND;TZID=America/New_York:20231208T195600
DTSTAMP:20260423T181717
CREATED:20231108T040036Z
LAST-MODIFIED:20231213T211343Z
UID:5356-1702065360-1702065360@koubekcenter.org
SUMMARY:DISC-COVER@Koubek
DESCRIPTION:Koubek Center is excited to announce DISC-COVER @ Koubek\, a new program that spotlights new musical releases by homegrown artists.  The Koubek will partner with local artists throughout the year by hosting concerts highlighting the exciting new music being released in our Magic City! \nPostcards is a rocking\, symphonic sophomore album from Miami-based Lemon City Trio. Nick Tannura (guitar)\, Brian Robertson (synth/keys)\, and Aaron Glueckauf (drums) bring a lot to the table. \nTannura plays lead lines with the presence of a vocalist. Robertson arranges with the touch of a film composer — he is one — broadening the instrumentation while always keeping the song laser focused on melody. Glueckauf\, meanwhile\, is a human beat machine\, the tasty backbone of everything else happening in the music. \nProgressive rock\, jazz fusion\, contemporary Saharan music\, the aforementioned hip hop and funk — the name Postcards is a reference to visiting all these musical destinations\, stopping for a spell in each and sending something back home. What makes LCT cool is their ability to go to all these disparate places and always sound like themselves in the process. \nThe album release concert will feature Brian Potts (founder Miamibloco). \nFREE PARKING
URL:https://koubekcenter.org/event/disc-cover-koubek/
LOCATION:Koubek Center Theater\, 2705 SW 3rd Street\, Miami\, FL\, 33135\, United States
CATEGORIES:Music
ATTACH;FMTTYPE=image/jpeg:https://koubekcenter.org/wp-content/uploads/2023/11/Lemon_City_Trio_Postcards_07.jpg
END:VEVENT
END:VCALENDAR