BEGIN:VCALENDAR
VERSION:2.0
PRODID:-//Koubek Center - ECPv6.2.0.1//NONSGML v1.0//EN
CALSCALE:GREGORIAN
METHOD:PUBLISH
X-WR-CALNAME:Koubek Center
X-ORIGINAL-URL:https://koubekcenter.org
X-WR-CALDESC:Events for Koubek Center
REFRESH-INTERVAL;VALUE=DURATION:PT1H
X-Robots-Tag:noindex
X-PUBLISHED-TTL:PT1H
BEGIN:VTIMEZONE
TZID:America/New_York
BEGIN:DAYLIGHT
TZOFFSETFROM:-0500
TZOFFSETTO:-0400
TZNAME:EDT
DTSTART:20200308T070000
END:DAYLIGHT
BEGIN:STANDARD
TZOFFSETFROM:-0400
TZOFFSETTO:-0500
TZNAME:EST
DTSTART:20201101T060000
END:STANDARD
END:VTIMEZONE
BEGIN:VEVENT
DTSTART;TZID=America/New_York:20200821T190000
DTEND;TZID=America/New_York:20200821T200000
DTSTAMP:20260421T153558
CREATED:20200720T191428Z
LAST-MODIFIED:20200817T164006Z
UID:1775-1598036400-1598040000@koubekcenter.org
SUMMARY:Lectura dramatiza de Pareja abierta
DESCRIPTION:Pareja abierta\, by Dario Fo and Franca Rame\, is a play that offers a satirical critique to the double standards on sex and marriage. It tells the story of a liberal couple with an open relationship\, in which the only one truly enjoying the “freedom” is the man. Full of comical skits and delirious situations that ease addressing the subject matter\, the play shows\, at the same time\, the reality of a world that predominantly remains male-dominated.  \n\n\nPareja abierta\, una obra escrita por Dario Fo y Franca Rame\, plantea en tono de sátira una crítica a la doble moral que existe alrededor del sexo y el matrimonio. Relata la vida de una pareja liberal con una relación abierta\, donde el único que disfruta verdaderamente de esa “libertad” es el hombre. Es una obra llena de gags cómicos y situaciones delirantes\, que ayudan a suavizar la trama\, pero que muestra\, a la vez\, la realidad de un mundo que sigue siendo predominantemente machista.  
URL:https://koubekcenter.org/event/lectura-dramatiza-de-pareja-abierta/
LOCATION:Facebook Live @KoubekCenterMDC\, FL
CATEGORIES:Theater
ATTACH;FMTTYPE=image/jpeg:https://koubekcenter.org/wp-content/uploads/2020/08/lectura-2-4-scaled_2.jpg
END:VEVENT
END:VCALENDAR