BEGIN:VCALENDAR
VERSION:2.0
PRODID:-//Koubek Center - ECPv6.2.0.1//NONSGML v1.0//EN
CALSCALE:GREGORIAN
METHOD:PUBLISH
X-WR-CALNAME:Koubek Center
X-ORIGINAL-URL:https://koubekcenter.org
X-WR-CALDESC:Events for Koubek Center
REFRESH-INTERVAL;VALUE=DURATION:PT1H
X-Robots-Tag:noindex
X-PUBLISHED-TTL:PT1H
BEGIN:VTIMEZONE
TZID:America/New_York
BEGIN:DAYLIGHT
TZOFFSETFROM:-0500
TZOFFSETTO:-0400
TZNAME:EDT
DTSTART:20230312T070000
END:DAYLIGHT
BEGIN:STANDARD
TZOFFSETFROM:-0400
TZOFFSETTO:-0500
TZNAME:EST
DTSTART:20231105T060000
END:STANDARD
END:VTIMEZONE
BEGIN:VEVENT
DTSTART;TZID=America/New_York:20231103T200000
DTEND;TZID=America/New_York:20231103T200000
DTSTAMP:20260420T173259
CREATED:20231005T004101Z
LAST-MODIFIED:20231011T225031Z
UID:5232-1699041600-1699041600@koubekcenter.org
SUMMARY:Yankee Bajan
DESCRIPTION:Yankee Bajan by Linda Parris-Bailey \nKoubek Center -Co-production with DVCAI & Parris-Bailey Arts Theatre \nLinda Parris-Bailey’s Yankee Bajan is a play with music that explores the experience of African-American expatriates in Barbados\, the land of their family origins. “Bajan” is a term for Barbadian. Can one return home to a place that has never been home? Will the young ones in the family flourish coming of age as Bajans\, or will their “Yankee” culture hurt friends and family? What cultural and colonial baggage does one bring to such an experience? In the process\, Yankee Bajan examines the circumstances in the United States that would drive a family to consider becoming expatriates. Through live performance and musical references from Brooklyn to Barbados\, Yankee Bajan takes the audience back to the wisdom of the Barbadian Heroes\, a select group including freedom fighters\, trade union pioneers\, and defenders of human rights. It takes us through the expatriate experience\, and ultimately\, the return to an independent Caribbean island. \nYankee Bajan\, de Linda Parris-Bailey\, es una obra con música que explora la experiencia de unos expatriados afroamericanos en Barbados\, la tierra de sus orígenes familiares. “Bajan” es un término usado para referirse a los nativos o habitantes de Barbados. ¿Puede uno volver a casa a un lugar que nunca ha sido su hogar? ¿Florecerán los jóvenes de la familia al alcanzar la mayoría de edad como “bajanes”\, o su cultura “yanqui” será un problema con amigos y familiares? ¿Qué bagaje cultural y colonial se lleva a una experiencia así? En el proceso\, Yankee Bajan examina las circunstancias en Estados Unidos que llevarían a una familia a considerar la posibilidad de convertirse en expatriados. A través de actuaciones en directo y referencias musicales de Brooklyn a Barbados\, Yankee Bajan transporta al público a la sabiduría de los Héroes de Barbados\, un selecto grupo que incluye a luchadores por la libertad\, pioneros sindicales y defensores de los derechos humanos\, la experiencia de expatriados y\, finalmente\, al retorno a una isla caribeña independiente.
URL:https://koubekcenter.org/event/5232/2023-11-03/
LOCATION:LEHMAN THEATRE-MDC North Campus\, 11380 NW 27th Ave Room 1315\, Miami\, 33167\, United States
CATEGORIES:Theater
ATTACH;FMTTYPE=image/jpeg:https://koubekcenter.org/wp-content/uploads/2023/08/Yankee_Bajan_Web01.jpg
END:VEVENT
END:VCALENDAR