BEGIN:VCALENDAR
VERSION:2.0
PRODID:-//Koubek Center - ECPv6.2.0.1//NONSGML v1.0//EN
CALSCALE:GREGORIAN
METHOD:PUBLISH
X-WR-CALNAME:Koubek Center
X-ORIGINAL-URL:https://koubekcenter.org
X-WR-CALDESC:Events for Koubek Center
REFRESH-INTERVAL;VALUE=DURATION:PT1H
X-Robots-Tag:noindex
X-PUBLISHED-TTL:PT1H
BEGIN:VTIMEZONE
TZID:America/New_York
BEGIN:DAYLIGHT
TZOFFSETFROM:-0500
TZOFFSETTO:-0400
TZNAME:EDT
DTSTART:20250309T070000
END:DAYLIGHT
BEGIN:STANDARD
TZOFFSETFROM:-0400
TZOFFSETTO:-0500
TZNAME:EST
DTSTART:20251102T060000
END:STANDARD
BEGIN:DAYLIGHT
TZOFFSETFROM:-0500
TZOFFSETTO:-0400
TZNAME:EDT
DTSTART:20260308T070000
END:DAYLIGHT
BEGIN:STANDARD
TZOFFSETFROM:-0400
TZOFFSETTO:-0500
TZNAME:EST
DTSTART:20261101T060000
END:STANDARD
END:VTIMEZONE
BEGIN:VEVENT
DTSTART;TZID=America/New_York:20250228T180000
DTEND;TZID=America/New_York:20250228T210000
DTSTAMP:20260423T054654
CREATED:20250110T023403Z
LAST-MODIFIED:20250126T162212Z
UID:6190-1740765600-1740776400@koubekcenter.org
SUMMARY:Open House Miami: Spring Equinox at the Koubek Center
DESCRIPTION:Join Miami Dade College for a celebration of architecture\, arts\, and culture during Open House Miami! \nFor more than five decades\, Miami Dade College has stood as a cultural beacon in Miami. On Friday\, February 28\, the Miami Film Festival\, Museum of Art and Design (MOAD)\, Miami Book Fair\, Koubek Center\, and Live Arts Miami will showcase their dynamic programs during Open House Miami\, a citywide event which captures the community\, design\, and experiences that define Miami. \nGuests are invited to enjoy an immersive evening with a Spring Equinox theme\, highlighting architecture\, art\, music\, film\, dance\, and literature. Since its inception in 1959\, MDC has been a cornerstone of culture and education in South Florida. The Spring Equinox event during Open House Miami exemplifies this legacy\, offering an opportunity for the community to explore and engage with the unique programs offered by each of MDC’s cultural institutions. \nThe evening offers the perfect opportunity to savor it all\, as we showcase an evening celebrating architecture while embodying the multicultural essence and diverse offerings for which we are renowned. \nThis event is free and open to the public. Please register in advance to reserve a spot. \nHighlights include: \n\nMiami Film Festival Shorts: A captivating showcase of unique\, independent short films presented on a continuous loop\, allowing guests to drop in and experience compelling cinematic stories at any time.\nMiami Book Fair Reading Garden: Relax under the stars in Adirondack chairs surrounded by lush greenery. Browse and discover your next favorite book with help from Paddington Bear! Free books\, poetry on demand and more.\nMOAD Felt Collage Workshop: Dive into your creative side with a hands-on felt collage workshop led by interdisciplinary artist Kristina Reinis. Design unique interior spaces—real or imagined—using felt sheets\, scissors\, and glue in a playful reimagining of “home.”\nMOAD/Koubek Walking Tours: Join Sierra Manno from MOAD and Koubek Center Director Melissa Messulam for an engaging “then and now” walking tour. Explore the history\, architecture\, and modern-day transformation of the historic Koubek Mansion.\nKoubek Center En Residencia Studios: Witness artists in residence as they develop new works across painting\, sound healing\, and dance\, giving visitors a behind-the-scenes look into their creative processes.\nLive Arts Miami Interactive Music Workshop: Tap into your inner musician with a live drumming workshop by Alexa Fernandez\, Director of Operations at the South Florida Center for Percussive Arts.\n\nThe evening will also feature complimentary refreshments\, including craft beer from The Tank Brewery\, rum seltzers from Casalú\, and water provided by Topo Chico and Smartwater. \nFree valet parking is available on a first come\, first serve basis. \nMiami Dade College may document the event\, including its attendees. By entering the area\, and/or participating in the event\, you consent to the recording and its use in any form.
URL:https://koubekcenter.org/event/open-house-miami-spring-equinox-at-the-koubek-center/
LOCATION:Koubek Center\, 2705 SW 3rd Street\, Miami\, FL\, 33135\, United States
ATTACH;FMTTYPE=image/jpeg:https://koubekcenter.org/wp-content/uploads/2025/01/web_banner_open-house.jpg
END:VEVENT
BEGIN:VEVENT
DTSTART;TZID=America/New_York:20250315T140000
DTEND;TZID=America/New_York:20250315T170000
DTSTAMP:20260423T054654
CREATED:20240411T225646Z
LAST-MODIFIED:20250304T030114Z
UID:5809-1742047200-1742058000@koubekcenter.org
SUMMARY:Picnic de Libros - March 15 2025
DESCRIPTION:Koubek Center and Miami Book Fair present Picnic de Libros \nPicnic de Libros is a multidisciplinary\, bilingual\, and free event that aims to bring children closer to literature and the arts through stories\, poems\, crafts\, tongue twisters\, riddles\, music\, and more. There will also be picnic baskets full of books to read and enjoy.
URL:https://koubekcenter.org/event/picnic-de-libros-april-27-2024/
LOCATION:Koubek Center Gardens\, 2705 SW 3rd Street\, Miami\, FL\, 33135\, United States
CATEGORIES:Books & Reading
ATTACH;FMTTYPE=image/jpeg:https://koubekcenter.org/wp-content/uploads/2024/04/web_banner_PICNIC-MARCH-2025.jpg
END:VEVENT
BEGIN:VEVENT
DTSTART;TZID=America/New_York:20260411T121500
DTEND;TZID=America/New_York:20260411T121500
DTSTAMP:20260423T054654
CREATED:20260316T135321Z
LAST-MODIFIED:20260316T135322Z
UID:7291-1775909700-1775909700@koubekcenter.org
SUMMARY:Coronoer To The Starts
DESCRIPTION:Documentary \nEnglish \nUnited States \nCoroner to the Stars chronicles the extraordinary journey of Dr. Thomas Noguchi\, the former Los Angeles County chief medical examiner-coroner\, whose groundbreaking autopsies forever shaped American culture. \nFrom Marilyn Monroe and Robert Kennedy to Sharon Tate and Natalie Wood\, Noguchi pushed forensic science into the spotlight – even as Hollywood elites and political adversaries sought to silence him. A Japanese immigrant who unwittingly rose to fame in a city driven by stardom\, Noguchi’s fearless pursuit of truth often placed him in the crosshairs of controversy. \nBest described as “CSI meets TMZ\,” Coroner to the Stars is a behind-the-curtains look at someone who shaped the way we – and history – view the deaths of some of our most beloved fallen icons. \nDIRECTED BY BEN HETHCOAT\, KEITA IDENO \n2025 \n83 MINS
URL:https://koubekcenter.org/event/coronoer-to-the-starts/2026-04-11/
LOCATION:Koubek Center Theater\, 2705 SW 3rd Street\, Miami\, FL\, 33135\, United States
CATEGORIES:Film
ATTACH;FMTTYPE=image/jpeg:https://koubekcenter.org/wp-content/uploads/2026/03/CORONOER-TO-THE-STARTS.jpg
END:VEVENT
END:VCALENDAR