BEGIN:VCALENDAR
VERSION:2.0
PRODID:-//Koubek Center - ECPv6.2.0.1//NONSGML v1.0//EN
CALSCALE:GREGORIAN
METHOD:PUBLISH
X-WR-CALNAME:Koubek Center
X-ORIGINAL-URL:https://koubekcenter.org
X-WR-CALDESC:Events for Koubek Center
REFRESH-INTERVAL;VALUE=DURATION:PT1H
X-Robots-Tag:noindex
X-PUBLISHED-TTL:PT1H
BEGIN:VTIMEZONE
TZID:America/New_York
BEGIN:DAYLIGHT
TZOFFSETFROM:-0500
TZOFFSETTO:-0400
TZNAME:EDT
DTSTART:20250309T070000
END:DAYLIGHT
BEGIN:STANDARD
TZOFFSETFROM:-0400
TZOFFSETTO:-0500
TZNAME:EST
DTSTART:20251102T060000
END:STANDARD
BEGIN:DAYLIGHT
TZOFFSETFROM:-0500
TZOFFSETTO:-0400
TZNAME:EDT
DTSTART:20260308T070000
END:DAYLIGHT
BEGIN:STANDARD
TZOFFSETFROM:-0400
TZOFFSETTO:-0500
TZNAME:EST
DTSTART:20261101T060000
END:STANDARD
END:VTIMEZONE
BEGIN:VEVENT
DTSTART;TZID=America/New_York:20250413T144500
DTEND;TZID=America/New_York:20250413T144500
DTSTAMP:20260423T085707
CREATED:20250319T162138Z
LAST-MODIFIED:20250407T145158Z
UID:6422-1744555500-1744555500@koubekcenter.org
SUMMARY:Two Islands Miami Film Festival
DESCRIPTION:Directed by | Humberto Ochoa | 2024  52 Minutes | Spanish\, English \nLogline | Five artists from two different cultures\, Afro-Cuban and First Nations Aboriginal Australians\, collaborate through \nmusic and dance to explore their ancestor’s cultural heritage. \nThe Koubek Center is excited to be partnering with the Miami Film Festival\, returning April 3 – 13 all across #Miami.  \nCatch groundbreaking films\, red carpet moments\, and unforgettable events across Miami for a film-worthy 10 days.  \nTag us! \n@MiamiFIlm #MFF42 #MiamiFF
URL:https://koubekcenter.org/event/two-islands/
LOCATION:Koubek Center Theater\, 2705 SW 3rd Street\, Miami\, FL\, 33135\, United States
CATEGORIES:Film
ATTACH;FMTTYPE=image/jpeg:https://koubekcenter.org/wp-content/uploads/2025/03/web_banner_miami_film_festival_02.jpg
END:VEVENT
BEGIN:VEVENT
DTSTART;TZID=America/New_York:20250413T144500
DTEND;TZID=America/New_York:20250413T144500
DTSTAMP:20260423T085707
CREATED:20250314T023912Z
LAST-MODIFIED:20250407T145332Z
UID:6242-1744555500-1744555500@koubekcenter.org
SUMMARY:Two Islands Premiere
DESCRIPTION:Two Islands is an evocative documentary that uses the art of cinematic storytelling to explore an extraordinary international cultural exchange between Afro-Cuban artists from Miami and First Nations Aboriginal artists from Australia. This collaboration delves into the rich traditions\, rituals\, and ceremonies of these two vibrant cultures. Through the exchange of ideas\, values\, and traditions\, Two Islands highlights the power of cultural connection in fostering tolerance\, acceptance\, and the continuous growth of our diverse global community. \nThe journey began with a two-week artistic residency in Miami between the Afro-Cuban and Aboriginal artists that culminated in a multidisciplinary musical and dance performance at the Koubek Center in December 2023\, featuring Afro-Cuban multi-instrumentalist and educator Michael Gil\, who worked alongside with Gary Lang\, Artistic Director and Choreographer of the Aboriginal-run NT Dance Company; Banula Marika\, Yolngu elder from East Arnhem Land and David Spry\, Marranunggu Marrathiyel singer-songwriter from Darwin\, Australia\, along with Afro-Cuban dancer and choreographer Marisol Blanco from Sikan Afro-Cuban Dance Project and musicians Manuel Clua\, René Pedroso\, and Caridad Paisán\, and dancers Suramy Suarez Braulio Hernandez. \nThe culmination of this two-year international cultural exchange is now brought to life in Two Islands\, a documentary produced by Melissa Messulam\, Director of MDC’s Koubek Center\, and directed by Humberto Ochoa\, a renowned storyteller and photographer known for his work in documentary and portrait photography. \nThis inspiring film was produced by Miami Dade College’s Koubek Center and was made possible thanks to the support of Miami Dade College\, the National Endowment for the Arts\, and the Miami-Dade County Department of Cultural Affairs.
URL:https://koubekcenter.org/event/two-islands-premiere/
LOCATION:Koubek Center Theater\, 2705 SW 3rd Street\, Miami\, FL\, 33135\, United States
CATEGORIES:Theater
ATTACH;FMTTYPE=image/jpeg:https://koubekcenter.org/wp-content/uploads/2025/03/web_banner_miami_film_festival_two-islands-premirercopy-for-WEB111.jpg
END:VEVENT
BEGIN:VEVENT
DTSTART;TZID=America/New_York:20260411T121500
DTEND;TZID=America/New_York:20260411T121500
DTSTAMP:20260423T085707
CREATED:20260316T135321Z
LAST-MODIFIED:20260316T135322Z
UID:7291-1775909700-1775909700@koubekcenter.org
SUMMARY:Coronoer To The Starts
DESCRIPTION:Documentary \nEnglish \nUnited States \nCoroner to the Stars chronicles the extraordinary journey of Dr. Thomas Noguchi\, the former Los Angeles County chief medical examiner-coroner\, whose groundbreaking autopsies forever shaped American culture. \nFrom Marilyn Monroe and Robert Kennedy to Sharon Tate and Natalie Wood\, Noguchi pushed forensic science into the spotlight – even as Hollywood elites and political adversaries sought to silence him. A Japanese immigrant who unwittingly rose to fame in a city driven by stardom\, Noguchi’s fearless pursuit of truth often placed him in the crosshairs of controversy. \nBest described as “CSI meets TMZ\,” Coroner to the Stars is a behind-the-curtains look at someone who shaped the way we – and history – view the deaths of some of our most beloved fallen icons. \nDIRECTED BY BEN HETHCOAT\, KEITA IDENO \n2025 \n83 MINS
URL:https://koubekcenter.org/event/coronoer-to-the-starts/2026-04-11/
LOCATION:Koubek Center Theater\, 2705 SW 3rd Street\, Miami\, FL\, 33135\, United States
CATEGORIES:Film
ATTACH;FMTTYPE=image/jpeg:https://koubekcenter.org/wp-content/uploads/2026/03/CORONOER-TO-THE-STARTS.jpg
END:VEVENT
END:VCALENDAR