BEGIN:VCALENDAR
VERSION:2.0
PRODID:-//Koubek Center - ECPv6.2.0.1//NONSGML v1.0//EN
CALSCALE:GREGORIAN
METHOD:PUBLISH
X-WR-CALNAME:Koubek Center
X-ORIGINAL-URL:https://koubekcenter.org
X-WR-CALDESC:Events for Koubek Center
REFRESH-INTERVAL;VALUE=DURATION:PT1H
X-Robots-Tag:noindex
X-PUBLISHED-TTL:PT1H
BEGIN:VTIMEZONE
TZID:America/New_York
BEGIN:DAYLIGHT
TZOFFSETFROM:-0500
TZOFFSETTO:-0400
TZNAME:EDT
DTSTART:20250309T070000
END:DAYLIGHT
BEGIN:STANDARD
TZOFFSETFROM:-0400
TZOFFSETTO:-0500
TZNAME:EST
DTSTART:20251102T060000
END:STANDARD
BEGIN:DAYLIGHT
TZOFFSETFROM:-0500
TZOFFSETTO:-0400
TZNAME:EDT
DTSTART:20260308T070000
END:DAYLIGHT
BEGIN:STANDARD
TZOFFSETFROM:-0400
TZOFFSETTO:-0500
TZNAME:EST
DTSTART:20261101T060000
END:STANDARD
END:VTIMEZONE
BEGIN:VEVENT
DTSTART;TZID=America/New_York:20250601T171500
DTEND;TZID=America/New_York:20250601T171500
DTSTAMP:20260423T033728
CREATED:20250506T190016Z
LAST-MODIFIED:20250506T202038Z
UID:6613-1748798100-1748798100@koubekcenter.org
SUMMARY:SHORTS BLOCK: DEPOSITED IN THIS LAND OF STRANGERS
DESCRIPTION:PROGRAM DESCRIPTION\n\n\n\n\nEmploying a variety of cinematic forms and strategies\, the five films in this programme engender lingering\, often poetic diasporic dialogues—between here and there\, then and now. \n\n\nBISAGRAS \nBy Luis Arias | 16 mins | 2024 | Senegal\, Brazil\, USA \n“Bisagras” is a film exploring the enduring here and elsewhere of black consciousness. Finding a connection through the film’s emulsion and my skin\, Bisagras holds my experience as a person of Afro-Caribbean descent during a visit to the House of Slaves in Gorée Island\, Senegal and the port of Salvador de Bahia\, Brazil. In these places I dare to imagine my ancestors’ history of the journey of African slaves to America and draw a line that goes through me.” – Luis Arnías \nWE DEH HERE \nBy Maybelle Peters | 7 mins | 2025 | UK \nWe Deh Here traces the relationship between Scotland and Guyana through photography\, sewing\, genealogical research\, and matrilineal lines. Combining stills of historical sites in Edinburgh and the Scottish Highlands with audio conversations between the artist and her mother\, the film investigates and speculates on their interconnection as an expression of British and Scottish colonialism. \nBLUE HEART \nBy Samuel Suffren | 15 mins | 2025 | Haiti \nMarianne and Pétion live in Haiti and wait impatiently for a call from their son in the USA. As silence sets in\, their fears and worries grow\, revealing the fractures in their own lives. The promise of the American dream now seems to elude them\, as the line between hope and reality becomes increasingly blurred. \nYOULOGY/NO GHOSTS \nBy Darryl Daley | 8 mins | 2023 | UK \nYoulogy / No Ghosts explores cyclical motifs of arrival and departure through the artist’s grandmother’s migration to the United Kingdom and her posthumous return to Jamaica\, creating a transcendental frame where memory and time merge. In this speculative space\, the film navigates beyond the confines of mortality\, reimagining a future where inherited stories resist linearity. \nA RIVER HOLDS A PERFECT MEMORY  \nBy Hope Strickland | 17 mins | 2024 | Jamaica\, UK \n“The original premise of a river holds a perfect memory was based on a series of labor protests in January 2016\, St Elizabeth\, Jamaica that highlighted the complex\, racio-colonial capitalist logics that continue to shape the use of Black River. Rivers fascinate me for myriad reasons: they hold within them the poetics of collapsed time and diasporic memory\, alongside complex flows of resource and labor extraction. Spending time researching reservoirs and industry in the North of England and rivers with my extended family in Jamaica\, the more these worlds seemed to swirl and eddy together.” – Hope Strickland
URL:https://koubekcenter.org/event/shorts-block-deposited-in-this-land-of-strangers/
LOCATION:Koubek Center\, 2705 SW 3rd Street\, Miami\, FL\, 33135\, United States
CATEGORIES:Film
ATTACH;FMTTYPE=image/jpeg:https://koubekcenter.org/wp-content/uploads/2025/05/Blue-Heart-Still-2-scaled-1.jpg
END:VEVENT
BEGIN:VEVENT
DTSTART;TZID=America/New_York:20250601T193000
DTEND;TZID=America/New_York:20250601T193000
DTSTAMP:20260423T033728
CREATED:20250506T190336Z
LAST-MODIFIED:20250506T190336Z
UID:6622-1748806200-1748806200@koubekcenter.org
SUMMARY:WEST INDIES: THE FUGITIVE SLAVES OF LIBERTY
DESCRIPTION:By: Med Hondo \n\n\n\n\n\nCountry: Mauritania\, Algeria\, France\nLanguage: French w/English Subs\nDuration: 116 mins\nYear: 1979\nGenre: Fiction\n\n\n\nSYNOPSIS\n\n\n\n\nMauritanian French director Med Hondo’s West Indies: The Fugitive Slaves of Liberty\, presented at THFF25 in a new restoration\,  proved a watershed event for African cinema—the continent’s first musical as well as a sui generis amalgam of historical epic\, Broadway revue\, Brechtian theater\, and joyous agitprop. Using an enormous mock slave ship as the film’s only soundstage\, Hondo mounts intricately choreographed reenactments and dance numbers across his multipurpose set to investigate more than three centuries of imperialist oppression. The story traverses the Caribbean\, Europe\, Africa\, and the Middle Passage; jumps across time to depict the effects of official French policy upon the colonized\, the enslaved\, and their descendants; and surveys the actions and motivations of the resigned\, the revolutionary\, and the powers that be (along with their lackeys). No mere extravaganza\, West Indies is a call to arms for a spectacular yet critical cinematic reimagining of an entire people’s history of resistance and struggle. \nWe are pleased that THFF alumna filmmaker Annabelle Aventurin\, who oversaw the restoration of West Indies\, will be present for a special introduction to the film.  \nWest Indies: The Fugitive Slaves of Liberty screens at THFF25 as part of the retrospective program You Don’t Get Freedom\, You Take Freedom: Caribbean Activist Cinema 1978–1985.
URL:https://koubekcenter.org/event/west-indies-the-fugitive-slaves-of-liberty-2/
LOCATION:Koubek Center\, 2705 SW 3rd Street\, Miami\, FL\, 33135\, United States
CATEGORIES:Film
ATTACH;FMTTYPE=image/webp:https://koubekcenter.org/wp-content/uploads/2025/05/West-Indies.jpg-1.webp
END:VEVENT
BEGIN:VEVENT
DTSTART;TZID=America/New_York:20250601T193000
DTEND;TZID=America/New_York:20250601T193000
DTSTAMP:20260423T033728
CREATED:20250505T195405Z
LAST-MODIFIED:20250505T195405Z
UID:6554-1748806200-1748806200@koubekcenter.org
SUMMARY:WEST INDIES: THE FUGITIVE SLAVES OF LIBERTY
DESCRIPTION:By Med Hondo | 116 mins | 1979 | Mauritania\, Algeria\, France \nMauritanian French director Med Hondo’s West Indies: The Fugitive Slaves of Liberty\, presented at THFF25 in a new restoration\,  proved a watershed event for African cinema—the continent’s first musical as well as a sui generis amalgam of historical epic\, Broadway revue\, Brechtian theater\, and joyous agitprop. Using an enormous mock slave ship as the film’s only soundstage\, Hondo mounts intricately choreographed reenactments and dance numbers across his multipurpose set to investigate more than three centuries of imperialist oppression. The story traverses the Caribbean\, Europe\, Africa\, and the Middle Passage; jumps across time to depict the effects of official French policy upon the colonized\, the enslaved\, and their descendants; and surveys the actions and motivations of the resigned\, the revolutionary\, and the powers that be (along with their lackeys). No mere extravaganza\, West Indies is a call to arms for a spectacular yet critical cinematic reimagining of an entire people’s history of resistance and struggle.
URL:https://koubekcenter.org/event/west-indies-the-fugitive-slaves-of-liberty/
LOCATION:Koubek Center\, 2705 SW 3rd Street\, Miami\, FL\, 33135\, United States
CATEGORIES:Film
ATTACH;FMTTYPE=image/webp:https://koubekcenter.org/wp-content/uploads/2025/05/West-Indies.jpg.webp
END:VEVENT
BEGIN:VEVENT
DTSTART;TZID=America/New_York:20250611T103000
DTEND;TZID=America/New_York:20250611T123000
DTSTAMP:20260423T033728
CREATED:20240918T012128Z
LAST-MODIFIED:20250609T151125Z
UID:6063-1749637800-1749645000@koubekcenter.org
SUMMARY:Women In Theatre June 11 2025
DESCRIPTION:Women in Theatre\, una iniciativa de Simbios Art Corp en colaboración con el Koubek Center\, te invita al workshop “El poder del movimiento”\, guiado por Jalymar Salomón. \nMás que una clase de baile\, este taller ofrece un espacio seguro para mover el cuerpo y dejar fluir las emociones. El objetivo es trabajar la respiración consciente y el movimiento intencional para ayudar a regular nuestras emociones. \n$15 (includes breakfast)\nWear comfortable clothes to move freely\nFree Parking
URL:https://koubekcenter.org/event/women-in-theatre-oct-8/
LOCATION:Koubek Center\, 2705 SW 3rd Street\, Miami\, FL\, 33135\, United States
CATEGORIES:Theater
ATTACH;FMTTYPE=image/jpeg:https://koubekcenter.org/wp-content/uploads/2024/09/web_banner_tambores-copy-1.jpg
END:VEVENT
BEGIN:VEVENT
DTSTART;TZID=America/New_York:20250611T183000
DTEND;TZID=America/New_York:20250611T183000
DTSTAMP:20260423T033728
CREATED:20250603T022021Z
LAST-MODIFIED:20250603T022618Z
UID:6821-1749666600-1749666600@koubekcenter.org
SUMMARY:¡Tómate una copa y escribe mejor!
DESCRIPTION:Celebramos 10 años de esta tertulia literaria única con el poeta Carlos Pintado \nEl encuentro será en la mansión del KOUBEK CENTER el 11 de junio\, a las 6.30pm  \nTema de la noche: “Diles que no me escriban“ – un juego con el cuento “Diles que no me maten“ de Juan Rulfo. \nEmbriaga a tu editor interno y déjate llevar por las palabras. Te damos un tema\, escribes durante 10 minutos\, compartes si quieres\, y brindamos (las copas las invita la casa). Luego\, repetimos. \nConduce Carlos Pintado\, poeta cubanoamericano galardonado con el Premio Paz de Poesía y autor de más de 30 obras publicadas\, cuyas colaboraciones han llegado a escenarios como Yale University y el Curtis Institute of Music. \nEstacionamiento gratuito!
URL:https://koubekcenter.org/event/tomate-una-copa-y-escribe-mejor/
LOCATION:Koubek Center\, 2705 SW 3rd Street\, Miami\, FL\, 33135\, United States
CATEGORIES:Books & Reading
ATTACH;FMTTYPE=image/jpeg:https://koubekcenter.org/wp-content/uploads/2025/06/web_banner_tambores-II.jpg
END:VEVENT
BEGIN:VEVENT
DTSTART;TZID=America/New_York:20250628T150000
DTEND;TZID=America/New_York:20250628T150000
DTSTAMP:20260423T033728
CREATED:20250417T195039Z
LAST-MODIFIED:20250617T144619Z
UID:6472-1751122800-1751122800@koubekcenter.org
SUMMARY:LA HORA DE NO DORMIR
DESCRIPTION:La obra que te enseña a soñar \nSinopsis \nLlegó la hora de dormir\, pero la pequeña Luly tiene muchas cosas más interesantes de qué ocuparse. Su mamá\, cansada\, espera con ansias concretar la última tarea del día: dormir a su hija. ¿Lo logrará? Entre cuentos y canciones\, ambas deberán vencer a monstruos\, sombras peligrosas\, ovejas descarriadas y al enorme desafío de despedirse “hasta mañana” \n¿Es posible enseñar a un hijo a dormir? Un abordaje lúdico sobre las situaciones que aparecen a la hora de ir a la cama. Una obra musical donde las canciones\, el baile\, la actuación y el clown se unen a través del lenguaje teatral y el multimedia.Una estética inspirada en la cultura pop que despierta la imaginación de los más pequeños\, para que aprendan a soñar. \nLa obra está dirigida a niños y niñas de entre 3 y 8 años. Elegimos este público como destinatario\, ya que los temores nocturnos sobre los cuales trata la obra afectan especialmente a esta la franja etaria\, según lo plantean los especialistas en psicología infantil. \n¡ULTIMA FUNCIÓN! \nSábado 28 de junio – 3 pm \nKoubek Center \nActúan: \nMicaela Castelloti como Mamá \nAnagabriel Marcoccia como Luly \nFicha Técnica \nAutora: Anahí Berneri \nAdaptación y Dirección: Josefina Pieres \nMúsica original: Sebastian Bianchini \nIlustración: Alita Olivari \nProducción: Simbios Art Corp y Koubek Center \nEscenografía y Vestuario: Micaela Kornasiewicz \nDirección Vocal: Kika Pulido \nCoreografías: Lauren Gaspard \nAsistencia de Dirección: Jesika Marcano \nSocial Media: Martina Manuele \nPrensa: Bea Urgelles \nFotos: Josefina Pieres
URL:https://koubekcenter.org/event/la-hora-de-no-dormir/2025-06-28/
LOCATION:Koubek Center Theater\, 2705 SW 3rd Street\, Miami\, FL\, 33135\, United States
CATEGORIES:Theater
ATTACH;FMTTYPE=image/jpeg:https://koubekcenter.org/wp-content/uploads/2025/04/LHDND-Ensayo-General-1102246.jpg
END:VEVENT
BEGIN:VEVENT
DTSTART;TZID=America/New_York:20260411T121500
DTEND;TZID=America/New_York:20260411T121500
DTSTAMP:20260423T033728
CREATED:20260316T135321Z
LAST-MODIFIED:20260316T135322Z
UID:7291-1775909700-1775909700@koubekcenter.org
SUMMARY:Coronoer To The Starts
DESCRIPTION:Documentary \nEnglish \nUnited States \nCoroner to the Stars chronicles the extraordinary journey of Dr. Thomas Noguchi\, the former Los Angeles County chief medical examiner-coroner\, whose groundbreaking autopsies forever shaped American culture. \nFrom Marilyn Monroe and Robert Kennedy to Sharon Tate and Natalie Wood\, Noguchi pushed forensic science into the spotlight – even as Hollywood elites and political adversaries sought to silence him. A Japanese immigrant who unwittingly rose to fame in a city driven by stardom\, Noguchi’s fearless pursuit of truth often placed him in the crosshairs of controversy. \nBest described as “CSI meets TMZ\,” Coroner to the Stars is a behind-the-curtains look at someone who shaped the way we – and history – view the deaths of some of our most beloved fallen icons. \nDIRECTED BY BEN HETHCOAT\, KEITA IDENO \n2025 \n83 MINS
URL:https://koubekcenter.org/event/coronoer-to-the-starts/2026-04-11/
LOCATION:Koubek Center Theater\, 2705 SW 3rd Street\, Miami\, FL\, 33135\, United States
CATEGORIES:Film
ATTACH;FMTTYPE=image/jpeg:https://koubekcenter.org/wp-content/uploads/2026/03/CORONOER-TO-THE-STARTS.jpg
END:VEVENT
END:VCALENDAR