BEGIN:VCALENDAR
VERSION:2.0
PRODID:-//Koubek Center - ECPv6.2.0.1//NONSGML v1.0//EN
CALSCALE:GREGORIAN
METHOD:PUBLISH
X-WR-CALNAME:Koubek Center
X-ORIGINAL-URL:https://koubekcenter.org
X-WR-CALDESC:Events for Koubek Center
REFRESH-INTERVAL;VALUE=DURATION:PT1H
X-Robots-Tag:noindex
X-PUBLISHED-TTL:PT1H
BEGIN:VTIMEZONE
TZID:America/New_York
BEGIN:DAYLIGHT
TZOFFSETFROM:-0500
TZOFFSETTO:-0400
TZNAME:EDT
DTSTART:20260308T070000
END:DAYLIGHT
BEGIN:STANDARD
TZOFFSETFROM:-0400
TZOFFSETTO:-0500
TZNAME:EST
DTSTART:20261101T060000
END:STANDARD
END:VTIMEZONE
BEGIN:VEVENT
DTSTART;TZID=America/New_York:20260316T080000
DTEND;TZID=America/New_York:20260316T170000
DTSTAMP:20260421T114324
CREATED:20260316T164053Z
LAST-MODIFIED:20260316T164528Z
UID:7376-1773648000-1773680400@koubekcenter.org
SUMMARY:Tropical Park
DESCRIPTION:Drama \nSpanish \nUnited States \nDuring a driving lesson\, two Cuban siblings – a newly arrived trans woman (Lola Bosch) and her estranged conservative brother (Ariel Texidó) – face each other for the first time in years\, with a silent Miami bearing witness outside their car windows. \nFrom local filmmaker Hansel Porras Garcia\, Tropical Park is a hybrid observational drama film shot in a single take and a love letter to Miami. \nOne of countless stories from the Cuban exile experience in the U.S.\, it’s a quiet meditation on coexistence\, memory\, and empathy. Here\, Garcia explores what it means to share space with those who see the world through a different lens\, and how love evolves when certain identities gently disrupt what once felt unquestionable. \nExpected guest \nHANSEL PORRAS GARCIA / DIRECTO \n2025 \n85 MINS
URL:https://koubekcenter.org/event/tropical-park/
LOCATION:Koubek Center Theater\, 2705 SW 3rd Street\, Miami\, FL\, 33135\, United States
CATEGORIES:Film
ATTACH;FMTTYPE=image/jpeg:https://koubekcenter.org/wp-content/uploads/2026/03/TROPICAL-PARK-WEB-BANNER.jpg
END:VEVENT
BEGIN:VEVENT
DTSTART;TZID=America/New_York:20260316T080000
DTEND;TZID=America/New_York:20260316T170000
DTSTAMP:20260421T114324
CREATED:20260316T162127Z
LAST-MODIFIED:20260316T162127Z
UID:7356-1773648000-1773680400@koubekcenter.org
SUMMARY:Perseverancia
DESCRIPTION:Documentary \nSpanish/English \nMexico \nPerseverancia is a tangible portrait of the life and extraordinary work of Tomás Sánchez\, one of the most relevant contemporary Latin American artists of our time. A master of dazzling imagery capable of contrasting nature in its vital\, almost mystical state – or wounded by human indifference – Sánchez’s poetic landscapes are a perpetual hymn to beauty and freedom consistent with his ecological philosophical vision. \nPerseverancia is the name of the sugar mill in Cienfuegos\, Cuba\, where Sánchez enjoyed his childhood alongside his mother\, his earliest artistic influence. Juan Carlos Martín presents Sánchez not only through his origins and influences\, but through the lens of the generation that marked a turning point amid the dictatorial uncertainty of 1980s Cuba. \nExpected guest: \nJUAN CARLOS MARTÍN / DIRECTOR \n2024 \n108 MINS
URL:https://koubekcenter.org/event/perseverancia/
LOCATION:Koubek Center Theater\, 2705 SW 3rd Street\, Miami\, FL\, 33135\, United States
CATEGORIES:Film
ATTACH;FMTTYPE=image/jpeg:https://koubekcenter.org/wp-content/uploads/2026/03/PERSEVERANCIA-WEB-BANNER.jpg
END:VEVENT
BEGIN:VEVENT
DTSTART;TZID=America/New_York:20260319T193000
DTEND;TZID=America/New_York:20260320T193000
DTSTAMP:20260421T114324
CREATED:20260225T001038Z
LAST-MODIFIED:20260225T001148Z
UID:7242-1773948600-1774035000@koubekcenter.org
SUMMARY:‘TIL DEATH
DESCRIPTION:By Alexis Scheer \nDirected by Jennifer de Castroverde \nAs a foreign war correspondent\, Marina has put her life on the line to illuminate the darkest corners of humanity. Having just returned from a particularly bloody conflict\, she flirts with staying home for good – alongside her cameraman turned lover. With her closest friends and family gathered on the eve of her lifetime achievement award ceremony\, she decides to cap this glorious moment with an elopement. But as Marina tries to take hold of her life\, she’s forced to reckon with the grip that war has held on her. Til Death premiered off-Broadway\, under the title Breaking the Story\, commissioned by Second Stage Theatre in 2024. NWSA presents a newly revised version of the play by Scheer\, an alumna of NWSA high school theater.  Content Advisory: This production contains theatrical haze\, flashing lights\, mature themes and language\, including war violence and post-traumatic stress disorder. Ages 12 and up. \nPublic Performances: \nMarch 19 & 20 – 7:30 pm \nMarch 21 – 2 PM \nKoubek Center Theatre \nGeneral admission $12; \nStudents & seniors $5
URL:https://koubekcenter.org/event/til-death/2026-03-19/
LOCATION:Koubek Center Theater\, 2705 SW 3rd Street\, Miami\, FL\, 33135\, United States
CATEGORIES:Theater
ATTACH;FMTTYPE=image/jpeg:https://koubekcenter.org/wp-content/uploads/2026/02/TIL-DETAH-BANNER-WEB.jpg
END:VEVENT
BEGIN:VEVENT
DTSTART;TZID=America/New_York:20260321T140000
DTEND;TZID=America/New_York:20260321T140000
DTSTAMP:20260421T114324
CREATED:20260225T001038Z
LAST-MODIFIED:20260225T001148Z
UID:7245-1774101600-1774101600@koubekcenter.org
SUMMARY:‘TIL DEATH
DESCRIPTION:By Alexis Scheer \nDirected by Jennifer de Castroverde \nAs a foreign war correspondent\, Marina has put her life on the line to illuminate the darkest corners of humanity. Having just returned from a particularly bloody conflict\, she flirts with staying home for good – alongside her cameraman turned lover. With her closest friends and family gathered on the eve of her lifetime achievement award ceremony\, she decides to cap this glorious moment with an elopement. But as Marina tries to take hold of her life\, she’s forced to reckon with the grip that war has held on her. Til Death premiered off-Broadway\, under the title Breaking the Story\, commissioned by Second Stage Theatre in 2024. NWSA presents a newly revised version of the play by Scheer\, an alumna of NWSA high school theater.  Content Advisory: This production contains theatrical haze\, flashing lights\, mature themes and language\, including war violence and post-traumatic stress disorder. Ages 12 and up. \nPublic Performances: \nMarch 19 & 20 – 7:30 pm \nMarch 21 – 2 PM \nKoubek Center Theatre \nGeneral admission $12; \nStudents & seniors $5
URL:https://koubekcenter.org/event/til-death/2026-03-21/
LOCATION:Koubek Center Theater\, 2705 SW 3rd Street\, Miami\, FL\, 33135\, United States
CATEGORIES:Theater
ATTACH;FMTTYPE=image/jpeg:https://koubekcenter.org/wp-content/uploads/2026/02/TIL-DETAH-BANNER-WEB.jpg
END:VEVENT
BEGIN:VEVENT
DTSTART;TZID=America/New_York:20260411T121500
DTEND;TZID=America/New_York:20260411T121500
DTSTAMP:20260421T114324
CREATED:20260316T135321Z
LAST-MODIFIED:20260316T135322Z
UID:7291-1775909700-1775909700@koubekcenter.org
SUMMARY:Coronoer To The Starts
DESCRIPTION:Documentary \nEnglish \nUnited States \nCoroner to the Stars chronicles the extraordinary journey of Dr. Thomas Noguchi\, the former Los Angeles County chief medical examiner-coroner\, whose groundbreaking autopsies forever shaped American culture. \nFrom Marilyn Monroe and Robert Kennedy to Sharon Tate and Natalie Wood\, Noguchi pushed forensic science into the spotlight – even as Hollywood elites and political adversaries sought to silence him. A Japanese immigrant who unwittingly rose to fame in a city driven by stardom\, Noguchi’s fearless pursuit of truth often placed him in the crosshairs of controversy. \nBest described as “CSI meets TMZ\,” Coroner to the Stars is a behind-the-curtains look at someone who shaped the way we – and history – view the deaths of some of our most beloved fallen icons. \nDIRECTED BY BEN HETHCOAT\, KEITA IDENO \n2025 \n83 MINS
URL:https://koubekcenter.org/event/coronoer-to-the-starts/2026-04-11/
LOCATION:Koubek Center Theater\, 2705 SW 3rd Street\, Miami\, FL\, 33135\, United States
CATEGORIES:Film
ATTACH;FMTTYPE=image/jpeg:https://koubekcenter.org/wp-content/uploads/2026/03/CORONOER-TO-THE-STARTS.jpg
END:VEVENT
END:VCALENDAR