BEGIN:VCALENDAR
VERSION:2.0
PRODID:-//Koubek Center - ECPv6.2.0.1//NONSGML v1.0//EN
CALSCALE:GREGORIAN
METHOD:PUBLISH
X-WR-CALNAME:Koubek Center
X-ORIGINAL-URL:https://koubekcenter.org
X-WR-CALDESC:Events for Koubek Center
REFRESH-INTERVAL;VALUE=DURATION:PT1H
X-Robots-Tag:noindex
X-PUBLISHED-TTL:PT1H
BEGIN:VTIMEZONE
TZID:America/New_York
BEGIN:DAYLIGHT
TZOFFSETFROM:-0500
TZOFFSETTO:-0400
TZNAME:EDT
DTSTART:20260308T070000
END:DAYLIGHT
BEGIN:STANDARD
TZOFFSETFROM:-0400
TZOFFSETTO:-0500
TZNAME:EST
DTSTART:20261101T060000
END:STANDARD
END:VTIMEZONE
BEGIN:VEVENT
DTSTART;TZID=America/New_York:20260412T180000
DTEND;TZID=America/New_York:20260412T180000
DTSTAMP:20260424T085014
CREATED:20260316T163621Z
LAST-MODIFIED:20260316T163644Z
UID:7371-1776016800-1776016800@koubekcenter.org
SUMMARY:Romería
DESCRIPTION:Biography\, Drama\, Romance \nSpanish\, Catalan\, French \nSpain \nArmed with a camcorder and a thirst for truths long buried\, 18-year-old Spanish orphan Marina is piecing together the ghosts of her parents. Traveling to Vigo to secure a document from her paternal grandparents that’s required for her university application\, she finds in her father’s family an icy evasion\, forcing her to untangle a web of conflicting memories about her deceased parents. \nCarla Simón delivers a luminous\, intimate study of auto-fiction\, utilizing a mesmerizing performance from Llúcia Garcia to dissect the gap between the stories of absent family members\, the stories we create about them\, and who they truly were. This is a heart-shattering master class on identity. \nRomería screened in competition in Cannes. \nDIRECTED BY CARLA SIMÓN \n2025 \n112 MINS
URL:https://koubekcenter.org/event/romeria/
LOCATION:Koubek Center Theater\, 2705 SW 3rd Street\, Miami\, FL\, 33135\, United States
CATEGORIES:Film
ATTACH;FMTTYPE=image/jpeg:https://koubekcenter.org/wp-content/uploads/2026/03/ROMERIA-WEB-BANNER.jpg
END:VEVENT
BEGIN:VEVENT
DTSTART;TZID=America/New_York:20260412T204500
DTEND;TZID=America/New_York:20260412T204500
DTSTAMP:20260424T085014
CREATED:20260316T152343Z
LAST-MODIFIED:20260316T152343Z
UID:7329-1776026700-1776026700@koubekcenter.org
SUMMARY:The King Of The Internet
DESCRIPTION:Drama\, Comedy \nPortuguese \nBrazil \nThe King of the Internet is a wild and dramatic saga that follows how Daniel Nascimento rose to become one of Brazil’s top hackers\, joined a criminal organization that moved millions of reais\, lived a lavish\, high-rolling life\, and was arrested in a federal police operation – all before turning 17. \nThis latest film from Brazilian director Fabrício Bittar is brash\, loud\, exciting\, and – most of all – extremely entertaining. His prior films include How to Become the Worst Student in School\, a top-10 Brazilian box-office hit; Ghost Killers vs. Bloody Mary\, selected by 15+ international festivals and winner of Best Gore at FrightFest; How to Hack Your Boss\, released on Netflix; and Inexplicável\, which went on to rank as a Top 3 Global title on Netflix. \nDIRECTED BY FABRÍCIO BITTAR \n2026 \n134 MINS
URL:https://koubekcenter.org/event/the-king-of-the-internet/
LOCATION:Koubek Center Theater\, 2705 SW 3rd Street\, Miami\, FL\, 33135\, United States
CATEGORIES:Film
ATTACH;FMTTYPE=image/jpeg:https://koubekcenter.org/wp-content/uploads/2026/03/THE-KING-OF-THE-INTERNET-WEB-BANNER.jpg
END:VEVENT
BEGIN:VEVENT
DTSTART;TZID=America/New_York:20260415T181500
DTEND;TZID=America/New_York:20260415T181500
DTSTAMP:20260424T085014
CREATED:20260316T161155Z
LAST-MODIFIED:20260316T161155Z
UID:7347-1776276900-1776276900@koubekcenter.org
SUMMARY:Miami Stories
DESCRIPTION:Comedy\, Local \nSpanish \nUniteds State \nMiami Stories is a wild\, collective comic confessional where some of the most outlandish figures from Cuba’s complex political scene – coming from both sides of the conflict – gather to reveal their Miami gospels\, not without a touch of arrogance. The notoriously infamous Wasp Network\, Castroism’s spy ring operating in the heart of the exile capital\, is transformed – through sharp\, corrosive satire – into the Mosquito Network. \nFBI agents\, influencers\, radio and TV hosts and producers\, actors\, and filmmakers express themselves in torrents of unchecked speech\, full of winks and double meanings that expose the humorous extremes of an unstoppable\, razor-sharp ideological landscape. \nMiami Stories prove that laughing at oneself remains the ultimate mark of intelligence. \nExpected guest: \nELIECER JIMENEZ ALMEIDA / DIRECTOR \n2026 \n74 MINS
URL:https://koubekcenter.org/event/miami-stories/
LOCATION:Koubek Center Theater\, 2705 SW 3rd Street\, Miami\, FL\, 33135\, United States
CATEGORIES:Film
ATTACH;FMTTYPE=image/jpeg:https://koubekcenter.org/wp-content/uploads/2026/03/MIAMI-STORIES-WEB-BANNER.jpg
END:VEVENT
END:VCALENDAR