BEGIN:VCALENDAR
VERSION:2.0
PRODID:-//Koubek Center - ECPv6.2.0.1//NONSGML v1.0//EN
CALSCALE:GREGORIAN
METHOD:PUBLISH
X-WR-CALNAME:Koubek Center
X-ORIGINAL-URL:https://koubekcenter.org
X-WR-CALDESC:Events for Koubek Center
REFRESH-INTERVAL;VALUE=DURATION:PT1H
X-Robots-Tag:noindex
X-PUBLISHED-TTL:PT1H
BEGIN:VTIMEZONE
TZID:America/New_York
BEGIN:DAYLIGHT
TZOFFSETFROM:-0500
TZOFFSETTO:-0400
TZNAME:EDT
DTSTART:20230312T070000
END:DAYLIGHT
BEGIN:STANDARD
TZOFFSETFROM:-0400
TZOFFSETTO:-0500
TZNAME:EST
DTSTART:20231105T060000
END:STANDARD
BEGIN:DAYLIGHT
TZOFFSETFROM:-0500
TZOFFSETTO:-0400
TZNAME:EDT
DTSTART:20240310T070000
END:DAYLIGHT
BEGIN:STANDARD
TZOFFSETFROM:-0400
TZOFFSETTO:-0500
TZNAME:EST
DTSTART:20241103T060000
END:STANDARD
BEGIN:DAYLIGHT
TZOFFSETFROM:-0500
TZOFFSETTO:-0400
TZNAME:EDT
DTSTART:20250309T070000
END:DAYLIGHT
BEGIN:STANDARD
TZOFFSETFROM:-0400
TZOFFSETTO:-0500
TZNAME:EST
DTSTART:20251102T060000
END:STANDARD
BEGIN:DAYLIGHT
TZOFFSETFROM:-0500
TZOFFSETTO:-0400
TZNAME:EDT
DTSTART:20260308T070000
END:DAYLIGHT
BEGIN:STANDARD
TZOFFSETFROM:-0400
TZOFFSETTO:-0500
TZNAME:EST
DTSTART:20261101T060000
END:STANDARD
END:VTIMEZONE
BEGIN:VEVENT
DTSTART;TZID=America/New_York:20230225T200000
DTEND;TZID=America/New_York:20230225T220000
DTSTAMP:20260422T182559
CREATED:20230124T223646Z
LAST-MODIFIED:20230206T182933Z
UID:4328-1677355200-1677362400@koubekcenter.org
SUMMARY:As Miamense as Possible
DESCRIPTION:La iniciativa As Miamense as Possible fue ganadora del Knight Arts Challenge 2021 con el propósito de apoyar a dramaturgos LatinX menores de 40 años. \nEl programa se llevara a cabo durante el 17\, 18\, 24 y 25 de febrero e incluye un programa de tres estrenos teatrales y un simposio teórico co-presentado en parte con el Observatorio Teatral Hispano \nCUÁNDO: Viernes 24 y sábado 25 de febrero a las 8:00 PM \nQUÉ:  “Al Amanecer”\, de Vianca Collazo (en español e inglés con sobretítulos en ambos idiomas) Con la dirección de Vianca Collazo y la actuación de Chaveli Ponce y Phillip Santiago \nSinopsis: El vínculo que crece entre dos seres a través de la lenta pérdida de una matriarca. La historia dolorosa de ciertas heridas y su necesario perdón. \n“Lo Siento mi Español es Tremendo Mal”\, de Brandon Urrutia (en español e inglés con sobretítulos en ambos  idiomas) Dirigido por Israel García y con la actuación de Brandon Urrutia \n  \nSinopsis: Fe\, familia y flan\, tres elementos distintivos de la cultura hispana; pero\, ¿puedes participar de ella si ni siquiera hablas la lengua? Descubre cómo Brandon\, autor y actor de la pieza\, desafía y resuelve la gran pregunta desde su español roto y su amor por los orígenes de su familia tras la muerte de la abuela. \nEstas obras son breves — “Al Amanecer” dura 45 minutes;  “Lo siento mi español es tremendo mal”\, es de 20 minutos – y serán presentadas continuadamente con un breve entreacto de 10 minutos.
URL:https://koubekcenter.org/event/as-miamense-as-possible-4/
LOCATION:Koubek Center Theater\, 2705 SW 3rd Street\, Miami\, FL\, 33135\, United States
CATEGORIES:Theater
ATTACH;FMTTYPE=image/jpeg:https://koubekcenter.org/wp-content/uploads/2023/01/miamense-2022.jpg
END:VEVENT
BEGIN:VEVENT
DTSTART;TZID=America/New_York:20230310T200000
DTEND;TZID=America/New_York:20230310T213000
DTSTAMP:20260422T182559
CREATED:20230214T204935Z
LAST-MODIFIED:20230214T204935Z
UID:4350-1678478400-1678483800@koubekcenter.org
SUMMARY:Koubek Center presenta FLAMENCO EN DOS ORILLAS
DESCRIPTION:The Koubek Center will bring an intimate and experimental Flamenco performance featuring the new generation of artists who are paving the way for a new way of understanding and seeing Flamenco. We present artists from Spain who can experiment in an intimate space and offer our audiences the same experience of an authentic tablao. Flamenco En Dos Orillas is an artistic residency featuring the unique collaboration between artists from Spain and local artists from Miami who will work together for a week to create a new work to be presented to the community as a public event. Internationally recognized award-winning Antonio Rey\, one of the most representative figures of the current flamenco guitar scene will be joined by multi-instrumentalist\, producer\, and composer Munir Hossn and his rich mix between Brazil\, Europe\, the Middle East\, and Africa; one of the most sought out Cuban percussionist Vizcaino Jr; and Afro-Cuban lead vocalist of Celia Cruz All Stars Lenia Diaz to develop a new work that fuses the musical traditions of these three talented artists. \nWHAT: FLAMENCO EN DOS ORILLAS \nWHEN: Friday March 10th @ 8PM –  Antonio Rey\, Munir Hossn\, Lenia Diaz and Vizcaino Jr \nWHERE: Koubek Center’s Theatre   2705 SW 3rd St. Miami\, Fl\, 33135 \nTICKETS: $20 presale / $25 at the door \nLINK TICKETS:   https://www.squadup.com/events/flamenco-en-dos-orillas-koubek-center-antonio-rey-munir-hossn-lenia-diaz?legacy=0 \nFREE PARKING
URL:https://koubekcenter.org/event/koubek-center-presenta-flamenco-en-dos-orillas/
LOCATION:Koubek Center Theater\, 2705 SW 3rd Street\, Miami\, FL\, 33135\, United States
CATEGORIES:Music
ATTACH;FMTTYPE=image/jpeg:https://koubekcenter.org/wp-content/uploads/2023/02/flamenco-2022-1.jpg
END:VEVENT
BEGIN:VEVENT
DTSTART;TZID=America/New_York:20230318T200000
DTEND;TZID=America/New_York:20230318T213000
DTSTAMP:20260422T182559
CREATED:20230310T154715Z
LAST-MODIFIED:20230310T154715Z
UID:4375-1679169600-1679175000@koubekcenter.org
SUMMARY:Tributo a Fania
DESCRIPTION:Get ready to dance and sing along with the hits at the Tribute to Fania\, presented by Koubek Center in its Little Havana Social Club program with Mimy Succar and the Mixtura Orchestra under the direction of two-time Latin GRAMMY Award-winning percussionist\, producer\, composer\, and arranger Tony Succar\, with the participation of musician\, producer and DJ Mr. Pauer.
URL:https://koubekcenter.org/event/tributo-a-fania/
LOCATION:Koubek Center Gardens\, 2705 SW 3rd Street\, Miami\, FL\, 33135\, United States
CATEGORIES:Music
ATTACH;FMTTYPE=image/jpeg:https://koubekcenter.org/wp-content/uploads/2023/03/fania-2023.jpg
END:VEVENT
BEGIN:VEVENT
DTSTART;TZID=America/New_York:20230320T200000
DTEND;TZID=America/New_York:20230320T213000
DTSTAMP:20260422T182559
CREATED:20230214T205519Z
LAST-MODIFIED:20230214T232337Z
UID:4355-1679342400-1679347800@koubekcenter.org
SUMMARY:Frenesies
DESCRIPTION:L’Alliance Française and Koubek Center present Frénésies\, a theatrical production of La Compagnie Tilawcis \nTurned towards an organic incarnation whose common thread is the departure-return report from the native island\, the territory of origin\, Frénésies starts slowly with a misguided character “I had the ocean as far as the eye could see but I was without horizon”\, sometimes candid: Thomas (twin in Aramaic).  He meets his inverted double\, free and without attachment\, real or not\, to the public to decide\, Bilal (the name of the Patron saint of the muezzins\, the one who sublimates reality by sacralizing it. It also represents water in Arab culture\, the elusive\, the intangible\, the one who overflows\, who flies\, who engulfs)\, who will do it juggling disturbing and ecstatic situations during the course an unforgettable trip on American roads. Everything contributes to tighten the room towards a philosophical\, mystical climax\, an intimate ritual to reconnect with oneself\, with one’s roots\, thus becoming a new genre: an initiatory road-theatre. \nIn French with Spanish subtitles \nMarch 20th @ 8PM \nFREE TICKETS with RSVP \nFREE PARKING
URL:https://koubekcenter.org/event/frenesies/
LOCATION:Koubek Center Theater\, 2705 SW 3rd Street\, Miami\, FL\, 33135\, United States
CATEGORIES:Theater
ATTACH;FMTTYPE=image/jpeg:https://koubekcenter.org/wp-content/uploads/2023/02/frenesies-2023.jpg
END:VEVENT
BEGIN:VEVENT
DTSTART;TZID=America/New_York:20230408T140000
DTEND;TZID=America/New_York:20230408T170000
DTSTAMP:20260422T182559
CREATED:20220803T203304Z
LAST-MODIFIED:20230329T212807Z
UID:4048-1680962400-1680973200@koubekcenter.org
SUMMARY:Picnic de Libros - April 8\, 2023
DESCRIPTION:Picnic de Libros is a bilingual\, family day program featuring storytelling\, theatre\, music\, arts and crafts\, dance\, and picnic baskets full of books\, for families to enjoy together. The event is free\, and its main goal is to expose kids to the richness and variety of the cultural traditions in our diverse community. These gatherings will tickle children’s curiosity while using the power of stories to bring people together\, promoting literacy\, and nurturing the next generation of engaged world citizens. We want to encourage kids to read and develop a passion for books and literature. Culminating each day\, we will serve a special picnic with blankets on the lawn and baskets full of books\, in both Spanish and English. Picnic de Libros is produced by the Koubek Center and Fundacion Cuatrogatos. \nNext Picnic will have the following activities: \n\nA very special presentation of Haitian music performed by Inez Barlatier.\nCreative Stage Productions returns with their amusing characters.\nBilingual stories with storytellers Marilyn Romero and Geraldine Townson.\nAn entertaining Spanish-language mini children’s theatre play performed by Teatro Doble.\nPíntame\, an interactive game with colors and brushes\, by Venezuelan performers Lismar Marcano and Hanny Rivera from Books and Play.\n\nSaturday April 8th  from 2 to 5 PM\nKoubek Center Garden (2705 SW 3rd St. Miami\, Fl\, 33135)\nPhone: 305-237-7750  \nFree Entrance and Parking
URL:https://koubekcenter.org/event/picnic-de-libros-april-8-2023/
LOCATION:Koubek Center Gardens\, 2705 SW 3rd Street\, Miami\, FL\, 33135\, United States
CATEGORIES:Books & Reading
ATTACH;FMTTYPE=image/jpeg:https://koubekcenter.org/wp-content/uploads/2021/08/picnic2021.jpg
END:VEVENT
BEGIN:VEVENT
DTSTART;TZID=America/New_York:20230416T140000
DTEND;TZID=America/New_York:20230416T170000
DTSTAMP:20260422T182559
CREATED:20230329T213337Z
LAST-MODIFIED:20230329T213338Z
UID:4387-1681653600-1681664400@koubekcenter.org
SUMMARY:The Inheritants Project - Afro Roots 2023
DESCRIPTION:Spend Sunday afternoon breakdancing\, building percussion instruments and learning how to play Afro Influenced music on Sekere\, Ukulele\, and Agogo. Then participate in a Community Jam Session\, with your newfound skills and friends. The Inheritants Project is an ongoing Miami-based youth Afro-Indigenous music and dance program with community interactive stage events. Together\, students and their teachers\, proteges and their mentors\, and children and their parents\, perform together on a professional platform. \nSCHEDULE: \n\n2pm – 4 pm: Learn to build a Sekere by Pan African Arts\n3pm – 4 pm: Learn to play the Ukulele by Afro-Mexican Fandango with Ameyal.\n3pm – 4 pm: Learn to break dance  with Luis “junior” Vitale.\n4pm: Jam Session\n\n ALL SUPPLIES AND INSTRUMENTS ARE PROVIDED  \nFAMILIES\, FEEL FREE TO BRING YOUR DRUMS AND PERCUSSIVE INSTRUMENTS FROM HOME FOR THIS JAM SESSION COMMUNITY INTERACTIVE WORKSHOP  \n*EACH CHILD MUST BE ACCOMPANIED BY AN ADULT * NO DROP-OFF SERVICE
URL:https://koubekcenter.org/event/the-inheritants-project-afro-roots-2023/
LOCATION:Koubek Center Theater\, 2705 SW 3rd Street\, Miami\, FL\, 33135\, United States
CATEGORIES:Music
ATTACH;FMTTYPE=image/jpeg:https://koubekcenter.org/wp-content/uploads/2023/03/inheritants-2023.jpg
END:VEVENT
BEGIN:VEVENT
DTSTART;TZID=America/New_York:20260411T121500
DTEND;TZID=America/New_York:20260411T121500
DTSTAMP:20260422T182559
CREATED:20260316T135321Z
LAST-MODIFIED:20260316T135322Z
UID:7291-1775909700-1775909700@koubekcenter.org
SUMMARY:Coronoer To The Starts
DESCRIPTION:Documentary \nEnglish \nUnited States \nCoroner to the Stars chronicles the extraordinary journey of Dr. Thomas Noguchi\, the former Los Angeles County chief medical examiner-coroner\, whose groundbreaking autopsies forever shaped American culture. \nFrom Marilyn Monroe and Robert Kennedy to Sharon Tate and Natalie Wood\, Noguchi pushed forensic science into the spotlight – even as Hollywood elites and political adversaries sought to silence him. A Japanese immigrant who unwittingly rose to fame in a city driven by stardom\, Noguchi’s fearless pursuit of truth often placed him in the crosshairs of controversy. \nBest described as “CSI meets TMZ\,” Coroner to the Stars is a behind-the-curtains look at someone who shaped the way we – and history – view the deaths of some of our most beloved fallen icons. \nDIRECTED BY BEN HETHCOAT\, KEITA IDENO \n2025 \n83 MINS
URL:https://koubekcenter.org/event/coronoer-to-the-starts/2026-04-11/
LOCATION:Koubek Center Theater\, 2705 SW 3rd Street\, Miami\, FL\, 33135\, United States
CATEGORIES:Film
ATTACH;FMTTYPE=image/jpeg:https://koubekcenter.org/wp-content/uploads/2026/03/CORONOER-TO-THE-STARTS.jpg
END:VEVENT
END:VCALENDAR