BEGIN:VCALENDAR
VERSION:2.0
PRODID:-//Koubek Center - ECPv6.2.0.1//NONSGML v1.0//EN
CALSCALE:GREGORIAN
METHOD:PUBLISH
X-ORIGINAL-URL:https://koubekcenter.org
X-WR-CALDESC:Events for Koubek Center
REFRESH-INTERVAL;VALUE=DURATION:PT1H
X-Robots-Tag:noindex
X-PUBLISHED-TTL:PT1H
BEGIN:VTIMEZONE
TZID:America/New_York
BEGIN:DAYLIGHT
TZOFFSETFROM:-0500
TZOFFSETTO:-0400
TZNAME:EDT
DTSTART:20230312T070000
END:DAYLIGHT
BEGIN:STANDARD
TZOFFSETFROM:-0400
TZOFFSETTO:-0500
TZNAME:EST
DTSTART:20231105T060000
END:STANDARD
END:VTIMEZONE
BEGIN:VEVENT
DTSTART;TZID=America/New_York:20230708T110000
DTEND;TZID=America/New_York:20230708T123000
DTSTAMP:20260420T162620
CREATED:20230606T143416Z
LAST-MODIFIED:20230606T162032Z
UID:4624-1688814000-1688819400@koubekcenter.org
SUMMARY:OH\, UH\, AH\, EI! Tierra – Aire – Fuego – Agua - (OH\, UH\, AH\, EI! Earth – Air – Fire – Water)
DESCRIPTION:El aclamado Festival Internacional de Teatro Hispano (FITH) de Miami\, presentado por Teatro Avante\, Adrienne Arsht Center for the Performing Arts\, Miami-Dade County Auditorium y Koubek Center\, celebrará su trigésima séptima edición con la participación de distinguidas compañías de teatro de América Latina\, España y Estados Unidos. \nLʼAUTENTICA\, Barcelona\, ESPAÑA \nOH\, UH\, AH\, EI! Tierra – Aire – Fuego – Agua – (OH\, UH\, AH\, EI! Earth – Air – Fire – Water) \nEscrita y dirigida por / Written & Directed by Verónica Pallini \nSat. & Sun. July 8 & 9 – 11:00 AM \nInstalación audiovisual recomendada para niños de 1 a 5 años. Es un viaje lúdico por los elementos de la naturaleza\, de la mano de dos personajes curiosos\, que exploran\, hacen preguntas\, se sorprenden e invitan a interactuar\, adivinar y jugar hasta llevarnos a un espacio lleno de música\, luces y sombras. \nAudiovisual installation recommended for children 1 to 5 years of age. This is a ludic journey through the elements of nature\, as children are guided by two curious characters who explore\, ask questions\, are surprised\, and invite their audience to interact\, guess and play until we get to a space filled with music\, lights\, and shadows.
URL:https://koubekcenter.org/event/oh-uh-ah-ei-tierra-aire-fuego-agua-oh-uh-ah-ei-earth-air-fire-water/2023-07-08/
LOCATION:Koubek Center Theater\, 2705 SW 3rd Street\, Miami\, FL\, 33135\, United States
CATEGORIES:Theater
ATTACH;FMTTYPE=image/jpeg:https://koubekcenter.org/wp-content/uploads/2023/06/oh-2023.jpg
END:VEVENT
BEGIN:VEVENT
DTSTART;TZID=America/New_York:20230714T203000
DTEND;TZID=America/New_York:20230714T213000
DTSTAMP:20260420T162620
CREATED:20230606T143633Z
LAST-MODIFIED:20230813T005826Z
UID:4629-1689366600-1689370200@koubekcenter.org
SUMMARY:UNA - (One)
DESCRIPTION:El aclamado Festival Internacional de Teatro Hispano (FITH) de Miami\, presentado por Teatro Avante\, Adrienne Arsht Center for the Performing Arts\, Miami-Dade County Auditorium y Koubek Center\, celebrará su trigésima séptima edición con la participación de distinguidas compañías de teatro de América Latina\, España y Estados Unidos. \nPERBACCO\, Buenos Aires\, ARGENTINA \nUNA – (One) \nde / by Miriam Odorico & Giampaolo Samà \nDirigida por / Directed by Giampaolo Samà \nFri. July 14 – 8:30 PM / Sat. July 15 – 6:00 PM \nVersión libre de “Uno\, ninguno y cien mil”\, novela sobre la descomposición de la personalidad. La constatación de un detalle físico insignificante se transforma en un evento único y perturbador para analizar las dudas de la existencia. ¿Quién soy? ¿Cómo nos ven los demás? ¿Cuántos personajes somos? Abandonar las cien mil máscaras para ponerse UNA. \nThe free version of “One\, None and One Hundred Thousand” is a novel about personality breakdown. The corroboration of an insignificant physical detail transforms into a unique and disturbing event to analyze our doubts about existence. Who am I? How do others see us? How many characters are we? Abandoning one hundred thousand masks to wear just ONE.
URL:https://koubekcenter.org/event/una-one/2023-07-14/
LOCATION:Koubek Center Theater\, 2705 SW 3rd Street\, Miami\, FL\, 33135\, United States
CATEGORIES:Theater
ATTACH;FMTTYPE=image/jpeg:https://koubekcenter.org/wp-content/uploads/2023/06/una-2023.jpg
END:VEVENT
BEGIN:VEVENT
DTSTART;TZID=America/New_York:20230721T203000
DTEND;TZID=America/New_York:20230721T213000
DTSTAMP:20260420T162620
CREATED:20230606T143913Z
LAST-MODIFIED:20230606T162040Z
UID:4633-1689971400-1689975000@koubekcenter.org
SUMMARY:SUPERPASITO - (Careless Whispers)
DESCRIPTION:El aclamado Festival Internacional de Teatro Hispano (FITH) de Miami\, presentado por Teatro Avante\, Adrienne Arsht Center for the Performing Arts\, Miami-Dade County Auditorium y Koubek Center\, celebrará su trigésima séptima edición con la participación de distinguidas compañías de teatro de América Latina\, España y Estados Unidos. \nESPACIO ESCÉNICA\, Bogotá DC\, COLOMBIA \nSUPERPASITO – (Careless Whispers) \nEscrita y dirigida por / Written & Directed by Julio Escallón \nFri. & Sat. July 21 & 22 – 8:30 PM / Sun. July 23 – 5:00 PM \nUna pareja habita en un lugar donde el susurro es la norma. Existe un peligro inminente y fatal al subir la voz. ¿Podrán coexistir bajo ese pasito régimen? ¿Se atreverán a romper con las reglas de su entorno? ¿Qué puede revelar cada riesgo y cada transgresión? Se enfrentarán a esas preguntas entre la vida y la muerte\, entre el amor y el hastío\, entre el silencio y la voz. \nA couple lives in a place where whispering is the norm. There is an imminent and lethal danger of raising one’s voice. Will the couple coexist under the rule of the whisper regime? Will they dare to break the laws of their environment? What will each risk and each transgression reveal? The couple will face those questions between life and death\, between love and boredom\, between their silence and voice.
URL:https://koubekcenter.org/event/superpasito-careless-whispers/2023-07-21/
LOCATION:Koubek Center Theater\, 2705 SW 3rd Street\, Miami\, FL\, 33135\, United States
CATEGORIES:Theater
ATTACH;FMTTYPE=image/jpeg:https://koubekcenter.org/wp-content/uploads/2023/06/super-2023.jpg
END:VEVENT
END:VCALENDAR