BEGIN:VCALENDAR
VERSION:2.0
PRODID:-//Koubek Center - ECPv6.2.0.1//NONSGML v1.0//EN
CALSCALE:GREGORIAN
METHOD:PUBLISH
X-ORIGINAL-URL:https://koubekcenter.org
X-WR-CALDESC:Events for Koubek Center
REFRESH-INTERVAL;VALUE=DURATION:PT1H
X-Robots-Tag:noindex
X-PUBLISHED-TTL:PT1H
BEGIN:VTIMEZONE
TZID:America/New_York
BEGIN:DAYLIGHT
TZOFFSETFROM:-0500
TZOFFSETTO:-0400
TZNAME:EDT
DTSTART:20230312T070000
END:DAYLIGHT
BEGIN:STANDARD
TZOFFSETFROM:-0400
TZOFFSETTO:-0500
TZNAME:EST
DTSTART:20231105T060000
END:STANDARD
END:VTIMEZONE
BEGIN:VEVENT
DTSTART;TZID=America/New_York:20230217T200000
DTEND;TZID=America/New_York:20230217T220000
DTSTAMP:20260420T200505
CREATED:20230124T190129Z
LAST-MODIFIED:20230214T232501Z
UID:4318-1676664000-1676671200@koubekcenter.org
SUMMARY:As Miamense as Possible
DESCRIPTION:La iniciativa As Miamense as Possible fue ganadora del Knight Arts Challenge 2021 con el propósito de apoyar a dramaturgos LatinX menores de 40 años. \nEl programa se llevara a cabo durante el 17\, 18\, 24 y 25 de febrero e incluye un programa de tres estrenos teatrales y un simposio teórico co-presentado en parte con el Observatorio Teatral Hispano \nCUÁNDO: Viernes 17 y sábado 18 de febrero a las 8:00 PM \nQUÉ:  “Zizek en el Pantano”\, de Lilianne Lugo con dirección de Boris Villar y la participación de Maribel Barrios\, Gabriela Griffith\, Jorge Hernández Lizaso y Orestes Pérez Estanquero. \nSinopsis: Alicia no sabe qué hacer con su madre\, Pablo no sabe qué hacer para encontrar papeles\, Elsa e Ismael no saben cómo envejecer en el exilio. Para todos ellos\, Miami\, el amor y la muerte son el gran pantano. \nSinopsis: Alicia no sabe qué hacer con su madre\, Pablo no sabe qué hacer para encontrar papeles\, Elsa e Ismael no saben cómo envejecer en el exilio. Para todos ellos\, Miami\, el amor y la muerte son el gran pantano.
URL:https://koubekcenter.org/event/as-miamense-as-possible/
LOCATION:Koubek Center Theater\, 2705 SW 3rd Street\, Miami\, FL\, 33135\, United States
CATEGORIES:Theater
ATTACH;FMTTYPE=image/jpeg:https://koubekcenter.org/wp-content/uploads/2023/01/miamense-2022.jpg
END:VEVENT
BEGIN:VEVENT
DTSTART;TZID=America/New_York:20230218T140000
DTEND;TZID=America/New_York:20230218T170000
DTSTAMP:20260420T200505
CREATED:20220803T203133Z
LAST-MODIFIED:20230206T142306Z
UID:4045-1676728800-1676739600@koubekcenter.org
SUMMARY:Picnic de Libros - February 18\, 2023
DESCRIPTION:Picnic de Libros is a bilingual\, family day program featuring storytelling\, theatre\, music\, arts and crafts\, dance\, and picnic baskets full of books\, free to keep. The event is free and its main goal is to expose kids to the richness and variety of the cultural traditions in our diverse community. These gatherings will tickle children’s curiosity while using the power of stories to bring people together\, promoting literacy\, and nurturing the next generation of engaged world citizens. We want to encourage kids to read and develop a passion for books and literature. Culminating each day\, we will serve a special picnic with blankets on the lawn and baskets full of books\, in both Spanish and English\, to take home. Picnic de Libros is produced by the Koubek Center and Fundacion Cuatrogatos.
URL:https://koubekcenter.org/event/picnic-de-libros-february-18-2023/
LOCATION:Koubek Center Gardens\, 2705 SW 3rd Street\, Miami\, FL\, 33135\, United States
CATEGORIES:Books & Reading
ATTACH;FMTTYPE=image/jpeg:https://koubekcenter.org/wp-content/uploads/2021/08/picnic2021.jpg
END:VEVENT
BEGIN:VEVENT
DTSTART;TZID=America/New_York:20230218T200000
DTEND;TZID=America/New_York:20230218T220000
DTSTAMP:20260420T200505
CREATED:20230124T191604Z
LAST-MODIFIED:20230206T182845Z
UID:4322-1676750400-1676757600@koubekcenter.org
SUMMARY:As Miamense as Possible
DESCRIPTION:La iniciativa As Miamense as Possible fue ganadora del Knight Arts Challenge 2021 con el propósito de apoyar a dramaturgos LatinX menores de 40 años. \nEl programa se llevara a cabo durante el 17\, 18\, 24 y 25 de febrero e incluye un programa de tres estrenos teatrales y un simposio teórico co-presentado en parte con el Observatorio Teatral Hispano \nCUÁNDO: Viernes 17 y sábado 18 de febrero a las 8:00 PM \nQUÉ:  “Zizek en el Pantano”\, de Lilianne Lugo con dirección de Boris Villar y la participación de Maribel Barrios\, Gabriela Griffith\, Jorge Hernández Lizaso y Orestes Pérez Estanquero. \nSinopsis: Alicia no sabe qué hacer con su madre\, Pablo no sabe qué hacer para encontrar papeles\, Elsa e Ismael no saben cómo envejecer en el exilio. Para todos ellos\, Miami\, el amor y la muerte son el gran pantano. \nSinopsis: Alicia no sabe qué hacer con su madre\, Pablo no sabe qué hacer para encontrar papeles\, Elsa e Ismael no saben cómo envejecer en el exilio. Para todos ellos\, Miami\, el amor y la muerte son el gran pantano.
URL:https://koubekcenter.org/event/as-miamense-as-possible-2/
LOCATION:Koubek Center Theater\, 2705 SW 3rd Street\, Miami\, FL\, 33135\, United States
CATEGORIES:Theater
ATTACH;FMTTYPE=image/jpeg:https://koubekcenter.org/wp-content/uploads/2023/01/miamense-2022.jpg
END:VEVENT
END:VCALENDAR