BEGIN:VCALENDAR
VERSION:2.0
PRODID:-//Koubek Center - ECPv6.2.0.1//NONSGML v1.0//EN
CALSCALE:GREGORIAN
METHOD:PUBLISH
X-WR-CALNAME:Koubek Center
X-ORIGINAL-URL:https://koubekcenter.org
X-WR-CALDESC:Events for Koubek Center
REFRESH-INTERVAL;VALUE=DURATION:PT1H
X-Robots-Tag:noindex
X-PUBLISHED-TTL:PT1H
BEGIN:VTIMEZONE
TZID:America/New_York
BEGIN:DAYLIGHT
TZOFFSETFROM:-0500
TZOFFSETTO:-0400
TZNAME:EDT
DTSTART:20230312T070000
END:DAYLIGHT
BEGIN:STANDARD
TZOFFSETFROM:-0400
TZOFFSETTO:-0500
TZNAME:EST
DTSTART:20231105T060000
END:STANDARD
END:VTIMEZONE
BEGIN:VEVENT
DTSTART;TZID=America/New_York:20230408T140000
DTEND;TZID=America/New_York:20230408T170000
DTSTAMP:20260420T194325
CREATED:20220803T203304Z
LAST-MODIFIED:20230329T212807Z
UID:4048-1680962400-1680973200@koubekcenter.org
SUMMARY:Picnic de Libros - April 8\, 2023
DESCRIPTION:Picnic de Libros is a bilingual\, family day program featuring storytelling\, theatre\, music\, arts and crafts\, dance\, and picnic baskets full of books\, for families to enjoy together. The event is free\, and its main goal is to expose kids to the richness and variety of the cultural traditions in our diverse community. These gatherings will tickle children’s curiosity while using the power of stories to bring people together\, promoting literacy\, and nurturing the next generation of engaged world citizens. We want to encourage kids to read and develop a passion for books and literature. Culminating each day\, we will serve a special picnic with blankets on the lawn and baskets full of books\, in both Spanish and English. Picnic de Libros is produced by the Koubek Center and Fundacion Cuatrogatos. \nNext Picnic will have the following activities: \n\nA very special presentation of Haitian music performed by Inez Barlatier.\nCreative Stage Productions returns with their amusing characters.\nBilingual stories with storytellers Marilyn Romero and Geraldine Townson.\nAn entertaining Spanish-language mini children’s theatre play performed by Teatro Doble.\nPíntame\, an interactive game with colors and brushes\, by Venezuelan performers Lismar Marcano and Hanny Rivera from Books and Play.\n\nSaturday April 8th  from 2 to 5 PM\nKoubek Center Garden (2705 SW 3rd St. Miami\, Fl\, 33135)\nPhone: 305-237-7750  \nFree Entrance and Parking
URL:https://koubekcenter.org/event/picnic-de-libros-april-8-2023/
LOCATION:Koubek Center Gardens\, 2705 SW 3rd Street\, Miami\, FL\, 33135\, United States
CATEGORIES:Books & Reading
ATTACH;FMTTYPE=image/jpeg:https://koubekcenter.org/wp-content/uploads/2021/08/picnic2021.jpg
END:VEVENT
END:VCALENDAR